BEGIN:VCALENDAR
VERSION:2.0
PRODID:-//DAV Massachusetts - ECPv6.15.20//NONSGML v1.0//EN
CALSCALE:GREGORIAN
METHOD:PUBLISH
X-WR-CALNAME:DAV Massachusetts
X-ORIGINAL-URL:https://davma.org
X-WR-CALDESC:Events for DAV Massachusetts
REFRESH-INTERVAL;VALUE=DURATION:PT1H
X-Robots-Tag:noindex
X-PUBLISHED-TTL:PT1H
BEGIN:VTIMEZONE
TZID:UTC
BEGIN:STANDARD
TZOFFSETFROM:+0000
TZOFFSETTO:+0000
TZNAME:UTC
DTSTART:20230101T000000
END:STANDARD
END:VTIMEZONE
BEGIN:VEVENT
DTSTART;TZID=UTC:20240802T060000
DTEND;TZID=UTC:20240802T100000
DTSTAMP:20260421T090036
CREATED:20240510T132110Z
LAST-MODIFIED:20240802T030406Z
UID:1594-1722578400-1722592800@davma.org
SUMMARY:ZipTrip - Westford\, MA
DESCRIPTION:Join DAV Department of MA & Fox25 Boston on Friday\, August 2\, 2024 at our ZipTrip to Westford\, MA \n  \nStart: 6am\nBreakdown: 10am\nLocation: Westford Town Common; Lincoln St\, Westford\, MA 01886\nParking: 48 Main Street (First Parish Church United) or 39 Main Street \n 
URL:https://davma.org/event/ziptrip-westford-ma/
LOCATION:Westford Town Common\, 48 Main Street\, Westford\, MA\, 01886\, United States
END:VEVENT
BEGIN:VEVENT
DTSTART;TZID=UTC:20240803T080000
DTEND;TZID=UTC:20240806T170000
DTSTAMP:20260421T090036
CREATED:20230510T030023Z
LAST-MODIFIED:20230615T213931Z
UID:645-1722672000-1722963600@davma.org
SUMMARY:2024 DAV and DAVA National Convention
DESCRIPTION:Hotels:\nHyatt Regency Phoenix\n122 N Second Street\nPhoenix\, AZ  85004\n$154 Single/Double \nSheraton Grand Phoenix\n340 North 3rd Street\nPhoenix\, AZ  85004\n$149 Single/Double
URL:https://davma.org/event/2024-dav-and-dava-national-convention/
LOCATION:Phoenix Convention Center\, 100 North Third Street\, Phoenix\, AZ\, United States
CATEGORIES:Convention
END:VEVENT
BEGIN:VEVENT
DTSTART;TZID=UTC:20240809T060000
DTEND;TZID=UTC:20240809T120000
DTSTAMP:20260421T090036
CREATED:20240510T132214Z
LAST-MODIFIED:20240510T132214Z
UID:1596-1723183200-1723204800@davma.org
SUMMARY:ZipTrip - Hyde Park
DESCRIPTION:Join DAV Department of MA & Fox25 Boston on Friday\, August 9\, 2024 at our ZipTrip to Hyde Park\, MA
URL:https://davma.org/event/ziptrip-hyde-park/
LOCATION:MA
END:VEVENT
BEGIN:VEVENT
DTSTART;TZID=UTC:20240812T133000
DTEND;TZID=UTC:20240812T200000
DTSTAMP:20260421T090036
CREATED:20240714T030928Z
LAST-MODIFIED:20240715T155515Z
UID:1653-1723469400-1723492800@davma.org
SUMMARY:15th Annual DAV Corporate Golf Tournament
DESCRIPTION:CLICK HERE TO REGISTER YOU OR YOUR FOURSOME ONLINE TODAY!\nEvent Details \n\n\n\nDate:\nAugust 12\, 2024 \nLocation:\nGranite Links Golf Course\n100 Quarry Hills Dr\nQuincy\, MA 02169 \nContact:\nTo sponsor the event\, register a foursome\, or for general questions\, please contact: \nTournament Director\nMichael Valila\nmvalila@davma.org\n(978) 602-7124 \nCLICK HERE TO REGISTER YOU OR YOUR FOURSOME ONLINE TODAY!\n2024 Annual Corporate Golf Invitational Flyer \nSponsor Packages \n \n  \n 
URL:https://davma.org/event/15th-annual-dav-corporate-golf-tournament/
LOCATION:Granite Links\, 100 Quarry Hills Drive\, Quincy\, MA\, 02169\, United States
END:VEVENT
BEGIN:VEVENT
DTSTART;TZID=UTC:20240816T060000
DTEND;TZID=UTC:20240816T120000
DTSTAMP:20260421T090036
CREATED:20240510T132332Z
LAST-MODIFIED:20240510T132332Z
UID:1598-1723788000-1723809600@davma.org
SUMMARY:ZipTrip - Walpole
DESCRIPTION:Join DAV Department of MA & Fox25 Boston for our final Ziptrip of the season on Friday\, August 16\, 2024 in Walpole\, MA
URL:https://davma.org/event/ziptrip-walpole/
LOCATION:MA
END:VEVENT
BEGIN:VEVENT
DTSTART;TZID=UTC:20240817T120000
DTEND;TZID=UTC:20240817T160000
DTSTAMP:20260421T090036
CREATED:20240817T120001Z
LAST-MODIFIED:20240723T154248Z
UID:1691-1723896000-1723910400@davma.org
SUMMARY:Village Green Car Show\, to benefit DAV Transportation Network
DESCRIPTION:Village Green Family Campground will host their annual Car Show to benefit the MA DAV Transportation Network on Saturday\, August 17th. Bring your car down to enter into the show\, or come out to enjoy a great day at the campground with the family! There will be food trucks\, raffles\, 50/50\, music and more! \nWhen:   Saturday\, August 17\, 2024\nWhere: 228 Sturbridge Road\nBrimfield\, MA 01010\nTime:    12 – 4pm\nRegistration: $10.00 per vehicle. Includes T-Shirt & free campground day-pass for 2.\nRegistrations can be filled out at the gate upon arrival.
URL:https://davma.org/event/village-green-car-show-to-benefit-dav-transportation-network/
LOCATION:MA
END:VEVENT
BEGIN:VEVENT
DTSTART;TZID=UTC:20240824T090000
DTEND;TZID=UTC:20240824T140000
DTSTAMP:20260421T090036
CREATED:20240821T195944Z
LAST-MODIFIED:20240821T195944Z
UID:1718-1724490000-1724508000@davma.org
SUMMARY:CVMA MA 2-1 Valhalla Run
DESCRIPTION:Come Join DAV as we table at the 2024 CVMA (Combat Veterans Motorcycle Association) 2-1 Valhalla Run!\nThere will be raffle prizes\, 50/50\, food\, drinks\, bonfire\, and more!\n0900 Registration @ Sheldon’s Harley: 914 Southbridge St. Auburn\, MA\nEnds @ SAC Park 438 Lake St. Shrewsbury\, MA (around 11-1130)\n*** DAV Tent will be at SAC Park ***
URL:https://davma.org/event/cvma-ma-2-1-valhalla-run/
LOCATION:MA
END:VEVENT
END:VCALENDAR