BEGIN:VCALENDAR
VERSION:2.0
PRODID:-//DAV Massachusetts - ECPv6.15.20//NONSGML v1.0//EN
CALSCALE:GREGORIAN
METHOD:PUBLISH
X-ORIGINAL-URL:https://davma.org
X-WR-CALDESC:Events for DAV Massachusetts
REFRESH-INTERVAL;VALUE=DURATION:PT1H
X-Robots-Tag:noindex
X-PUBLISHED-TTL:PT1H
BEGIN:VTIMEZONE
TZID:UTC
BEGIN:STANDARD
TZOFFSETFROM:+0000
TZOFFSETTO:+0000
TZNAME:UTC
DTSTART:20230101T000000
END:STANDARD
END:VTIMEZONE
BEGIN:VEVENT
DTSTART;TZID=UTC:20240415T140000
DTEND;TZID=UTC:20240415T160000
DTSTAMP:20260421T153219
CREATED:20231204T194533Z
LAST-MODIFIED:20240410T200748Z
UID:1261-1713189600-1713196800@davma.org
SUMMARY:Lexington Patriot's Day Parade
DESCRIPTION:DAV Department of Massachusetts Honor Guard\, Line Officers\, and members will march in the Lexington Patriot’s Day Parade on Monday April 15\, 2024. \nThe parade begins at 2:00 PM on Monday\, April 15\, 2024 and is about 2 miles long. We will assemble beginning at 11:30 AM at the Lexington High School parking lot at 251 Waltham Street where shuttle buses will bring us to the parade assembly area. The parade ends close to the High School\, so marchers will be near their parked vehicles. We can also utilize the DAV van as a shuttle. \nAlso\, if anyone is interested in viewing the “Shot Heard Round the World”\, a reenactment of the first battle of the American Revolution on the Lexington Battle Green at 5:30 AM on Monday morning\, please contact Department Commander Bob Kinsman at BobKDAV47@comcast.net \nClick link below to open directions to Lexington\, Parade route map\, DPW safety notice\, Police Department notice\, Parade Orders and Parade instructions:\n2024 Lexington Patriots Day Parade Package
URL:https://davma.org/event/lexington-patriots-day-parade/
LOCATION:MA
END:VEVENT
BEGIN:VEVENT
DTSTART;TZID=UTC:20240420T180000
DTEND;TZID=UTC:20240420T230000
DTSTAMP:20260421T153219
CREATED:20240412T181901Z
LAST-MODIFIED:20240412T181901Z
UID:1475-1713636000-1713654000@davma.org
SUMMARY:National DAVA Auxiliary Commander AnnMarie Hurley Testimonial Dinner
DESCRIPTION:Dear Officers and members\,\n\nThe DAV Auxiliary National Commander’s Testimonial Dinner will be held on Saturday evening\, April 20th\, 2024 at 7 p.m. at the Marriott Boston Quincy\, 1000 Marriott Drive\, Quincy\, MA 02169. The ticket prices for the dinner will be $66.00 each. There will be tables of 10.\n\n6 – 7 p.m. Cocktail Reception in the Ballroom Foyer.\n7 – 11 p.m. Dinner and Dancing in half of the President’s Ballroom.\n  \n  \nMarriott Boston Quincy\nLocation: 1000 Marriot Drive\, Quincy MA 02169\nPhone: 617-472-1000\nWebsite: https://www.marriot.com/en-us/hotels/bosqu-marriot-boston-quincy/overview/\nRooms:\n• 15 King rooms a $196+ per night;\n• 10 Queen/Queen rooms at $206+ per night.\n\nTour of the John F. Kennedy Presidential Library\nSaturday from 11 a.m. until 2 p.m.\, we are planning an excursion to the John F. Kennedy Presidential Library at Columbia Point\, Boston\, Massachusetts. DAV Department of MA will provide complimentary transportation from the hotel to the Kennedy Library and back to the hotel. We need to know the number of seats needed at your earliest convenience\, so please send your reservations in today!\n  \nPlease send checks to AnnMarie Hurley\, 45 Hull Shore Drive\, #302\, Hull\, MA 02045.\nClick Link below to open flyer:\nNational DAVA Commander Testimonial
URL:https://davma.org/event/national-dava-auxiliary-commander-annmarie-hurley-testimonial-dinner/
LOCATION:Marriott Boston Quincy\, 1000 Marriott Drive\, Quincy\, MA\, 02169\, United States
END:VEVENT
BEGIN:VEVENT
DTSTART;TZID=UTC:20240427T123000
DTEND;TZID=UTC:20240427T153000
DTSTAMP:20260421T153219
CREATED:20240421T115559Z
LAST-MODIFIED:20240421T115559Z
UID:1498-1714221000-1714231800@davma.org
SUMMARY:Women Veteran Town Hall
DESCRIPTION:  \n\nJoin us in Malden\, Massachusetts on April 27th for a Women Veteran Town Hall from 12:30pm-3:30pm.\n\n\n\nLight snacks and refreshments will be provided. Let us know if you can make it!\n\n\n\nPlease share amongst your peers and veteran community networks!
URL:https://davma.org/event/women-veteran-town-hall/
LOCATION:Lt. Dexter W. Clifford Chapter 85\, 85 Willow Street\, Malden\, MA\, 02148\, United States
END:VEVENT
END:VCALENDAR