BEGIN:VCALENDAR
VERSION:2.0
PRODID:-//DAV Massachusetts - ECPv6.15.20//NONSGML v1.0//EN
CALSCALE:GREGORIAN
METHOD:PUBLISH
X-ORIGINAL-URL:https://davma.org
X-WR-CALDESC:Events for DAV Massachusetts
REFRESH-INTERVAL;VALUE=DURATION:PT1H
X-Robots-Tag:noindex
X-PUBLISHED-TTL:PT1H
BEGIN:VTIMEZONE
TZID:UTC
BEGIN:STANDARD
TZOFFSETFROM:+0000
TZOFFSETTO:+0000
TZNAME:UTC
DTSTART:20220101T000000
END:STANDARD
END:VTIMEZONE
BEGIN:VEVENT
DTSTART;TZID=UTC:20240305T190000
DTEND;TZID=UTC:20240305T200000
DTSTAMP:20260420T080344
CREATED:20231204T192809Z
LAST-MODIFIED:20231207T151034Z
UID:1250-1709665200-1709668800@davma.org
SUMMARY:Board of Directors
DESCRIPTION:Our Board of Directors will next meet on Tuesday March 5\, 2024 (date was changed due to Mid-Winter rescheduling)
URL:https://davma.org/event/board-of-directors/
END:VEVENT
BEGIN:VEVENT
DTSTART;TZID=UTC:20240217T130000
DTEND;TZID=UTC:20240217T160000
DTSTAMP:20260420T080344
CREATED:20240212T185238Z
LAST-MODIFIED:20240212T185238Z
UID:1389-1708174800-1708185600@davma.org
SUMMARY:Mid-Winter Training
DESCRIPTION:Our Department’s Senior Vice Commander Bob Bronson will be hosting training on Saturday\, February 17th from 2-4pm for everyone planning to attend Mid-Winter Conference this year. \nTraining location will be located at the Billerica Access Television building\, second floor\, at 390 Boston Rd\, Billerica MA (click on address to open map). Doors will open at 1pm\, with lunch & refreshments served. \nAt this training we will discuss DAV’s Critical Policy Goals\, our anticipated Agenda for the trip\, scheduled meetings planned with our legislators in D.C.\, transportation to DC & on the Hill\, and more. \nIf you are planning to attend Mid-Winter this year\, please do not miss out on this training. \nIf you are unable to attend in-person\, please join us by Zoom by following this link: \nhttps://us02web.zoom.us/j/83194974384?pwd=WGdWOWRRSllGckFMU3hEZ0RTd2VxUT09  \nMeeting ID: 831 9497 4384\nPasscode: 928790 \n 
URL:https://davma.org/event/mid-winter-training/
LOCATION:Billerica Public Access Television Building\, 390 Boston Road\, Billerica\, MA\, 01821\, United States
END:VEVENT
BEGIN:VEVENT
DTSTART;TZID=UTC:20240122T180000
DTEND;TZID=UTC:20240122T190000
DTSTAMP:20260420T080344
CREATED:20240112T202717Z
LAST-MODIFIED:20240112T202926Z
UID:1298-1705946400-1705950000@davma.org
SUMMARY:Advanced Service Officer Training
DESCRIPTION:Our next advanced service officer training will be held on Monday\, January 22nd at 6pm via Zoom (please see link below). \n  \n 
URL:https://davma.org/event/advanced-service-officer-training/
LOCATION:zoom
END:VEVENT
BEGIN:VEVENT
DTSTART;TZID=UTC:20231205T183000
DTEND;TZID=UTC:20231205T193000
DTSTAMP:20260420T080344
CREATED:20231204T193708Z
LAST-MODIFIED:20231204T193708Z
UID:1255-1701801000-1701804600@davma.org
SUMMARY:Women Veterans Committee Meeting
DESCRIPTION:The next Department Women Veteran Committee Meeting will be held on Tuesday\, December 5\, 2023 at 6:30pm via zoom. \nIf you would like to join the Committee\, please contact Committee Chair Sheila Pelletier at sheila.pelletier60@gmail.com \n  \nTopic: Women Veterans Committee\nTime: Dec 5\, 2023 06:30 PM Eastern Time (US and Canada) \nJoin Zoom Meeting\nhttps://us02web.zoom.us/j/89871284472?pwd=bTNRZUhRdi9zanVkTEdsWUdQb2RGZz09 \nMeeting ID: 898 7128 4472\nPasscode: 692737 \nFind your local number: https://us02web.zoom.us/u/kc6YAzMSfz \n 
URL:https://davma.org/event/women-veterans-committee-meeting/
END:VEVENT
BEGIN:VEVENT
DTSTART;TZID=UTC:20231205T180000
DTEND;TZID=UTC:20231205T190000
DTSTAMP:20260420T080344
CREATED:20231204T193943Z
LAST-MODIFIED:20231204T193943Z
UID:1257-1701799200-1701802800@davma.org
SUMMARY:Constitution & Bylaws Committee Meeting
DESCRIPTION:The Department Constitution & Bylaws Committee will hold their next Meeting via Zoom on Tuesday\, December 5\, 2023 at 6pm. \nIf you are interested in joining the Committee\, please contact Committee Chairman Gene McGreevy at emcgreevy@aol.com \n  \nTopic: Constitution & Bylaws Committee\nTime: Dec 5\, 2023 06:00 PM Eastern Time (US and Canada) \nJoin Zoom Meeting\nhttps://us02web.zoom.us/j/87069932578?pwd=SGNnNG05NThERjlrU1BJdGY1K1VxUT09 \nMeeting ID: 870 6993 2578\nPasscode: 793707 \nFind your local number: https://us02web.zoom.us/u/kcgL4oMu4M \n 
URL:https://davma.org/event/constitution-bylaws-committee-meeting/
END:VEVENT
BEGIN:VEVENT
DTSTART;TZID=UTC:20231203T080000
DTEND;TZID=UTC:20231203T170000
DTSTAMP:20260420T080344
CREATED:20230510T024519Z
LAST-MODIFIED:20230510T024519Z
UID:634-1701590400-1701622800@davma.org
SUMMARY:DAV Day
DESCRIPTION:
URL:https://davma.org/event/dav-day/
LOCATION:Soldiers Homes
CATEGORIES:DAV MA Event
END:VEVENT
BEGIN:VEVENT
DTSTART;TZID=UTC:20231118T080000
DTEND;TZID=UTC:20231118T110000
DTSTAMP:20260420T080344
CREATED:20231103T005332Z
LAST-MODIFIED:20231103T005332Z
UID:1193-1700294400-1700305200@davma.org
SUMMARY:Plymouth Thanksgiving Parade
DESCRIPTION:Department Commander Robert Kinsman has called on the Department to join him at the Plymouth Thanksgiving Parade on Saturday November 18\, 2023. \n  \nMeeting place is at the Memorial Hall parking lot on 83 Court St\, Plymouth MA. Participants MUST arrive by 8am\, as the roads will be closed to traffic by 830am. \nThe parade route is 1.6 miles long with one large hill after Water St. It ends at the corner of Court St and Nelson St. Following the parade\, DAV participants have been invited back to Memorial Hall for refreshments\, courtesy of DAV William J. Bonney Chapter 72. \n \nThose who would like to participate in the parade please contact Department Commander Bob Kinsman at BobKDAV47@comcast.net or Adjutant Mike Valila at mvalila@davmaorg \n 
URL:https://davma.org/event/plymouth-thanksgiving-parade/
LOCATION:Memorial Hall\, 83 Court Street\, Plymouth\, MA\, 02360\, United States
END:VEVENT
BEGIN:VEVENT
DTSTART;TZID=UTC:20231111T080000
DTEND;TZID=UTC:20231111T170000
DTSTAMP:20260420T080344
CREATED:20230510T023517Z
LAST-MODIFIED:20230510T024046Z
UID:627-1699689600-1699722000@davma.org
SUMMARY:DAV 5K
DESCRIPTION:In 2023\, we look forward to returning to DCR Fort Independence at Castle Island to celebrate in person this November! Come run with the DAV 5K Boston and #FinishInTheFort! \nWe are thrilled to be back at Fort Independence and cannot wait to see you and all of our DAV 5K Boston friends and family again. The DAV 5K Boston race committee is \n			\n			\n				\n				\n				\n				\n			\n				\n				\n				\n				\n				\n				\n				\n				\n				\n				\n				working with our municipal partners at the Commonwealth of Massachusetts\, the DCR\, State Police and the City of Boston to ensure a safe and responsible family-friendly event experience. The DAV 5K Boston team is taking extra care this year to keep you safe\, including shipping race kits in advance to all participants. \nThe DAV 5K Run to Honor Veterans is a run\, walk or roll that thanks those who served and raises awareness of the issues our ill and injured veterans face every day. This event helps further the mission of DAV to ensure our injured heroes are not alone on their road to recovery. \n			\n			\n				\n				\n				\n				\n			\n				\n				\n				\n				\n				\n				\n				VISIT EVENT WEBSITE
URL:https://davma.org/event/dav-5k/
LOCATION:Fort Independence\, Castle Island\, Quincy\, MA\, United States
CATEGORIES:5K Race
END:VEVENT
BEGIN:VEVENT
DTSTART;TZID=UTC:20231110T060000
DTEND;TZID=UTC:20231110T190000
DTSTAMP:20260420T080344
CREATED:20231005T195403Z
LAST-MODIFIED:20231005T201826Z
UID:1143-1699596000-1699642800@davma.org
SUMMARY:WRKO Radiothon
DESCRIPTION:WRKO AM680 will be running their Annual Radiothon to benefit the DAV Department of Massachusetts on Friday November 10th 6am-7pm.\nPlease tune in and listen as we will have veterans\, community partners\, and surprise guests interviewed live on-air about the impacts DAV has made in their life\, and the services and programs available to veterans at no cost thanks to our wonderful supporters like you!\n 
URL:https://davma.org/event/wrko-radiothon/
END:VEVENT
BEGIN:VEVENT
DTSTART;TZID=UTC:20231105T130000
DTEND;TZID=UTC:20231105T140000
DTSTAMP:20260420T080344
CREATED:20231103T004240Z
LAST-MODIFIED:20231103T004240Z
UID:1190-1699189200-1699192800@davma.org
SUMMARY:Veterans Day Ceremony - Bourne National Cemetery
DESCRIPTION:The Massachusetts National Cemetery in Bourne will host their annual Veterans Day Ceremony on Sunday\, November 5\, 2023 at 1pm. We ask that DAV members interested in participating please arrive in DAV full-dress attire by 1130am. We will stage on site by noontime\, and begin our march to the event at 1pm promptly. \nPlease contact Department Honor Guard Officer of the Day Herb Colon at herb2378@aol.com
URL:https://davma.org/event/veterans-day-ceremony-bourne-national-cemetery/
LOCATION:Bourne National Cemetery\, Connery Avenue\, Bourne\, MA\, 02542\, United States
END:VEVENT
BEGIN:VEVENT
DTSTART;TZID=UTC:20231104T100000
DTEND;TZID=UTC:20231104T120000
DTSTAMP:20260420T080344
CREATED:20231101T210638Z
LAST-MODIFIED:20231101T210638Z
UID:1187-1699092000-1699099200@davma.org
SUMMARY:DEC/SEC Meeting
DESCRIPTION:Department Executive Committee (DEC) Meeting will be hybrid format. The meeting will be held at our Veterans Advancement Program in Gardner\, MA. Coffee hour will begin at 9am\, with meeting beginning promptly at 10am. \nState Executive Committee (SEC) Meeting will be held in-person only. Coffee hour will begin at 9am\, with meeting beginning promptly at 10am. \nWe strongly recommended in-person attendance\, if able. This will be our first DEC/SEC meeting back from summer break for Conventions with our new Line! \n  \nDEC Meeting\nTime: Nov 4\, 2023 10:00 AM Eastern Time \nJoin Zoom Meeting\nhttps://us02web.zoom.us/j/88678246823?pwd=V3NBazRXS29PWFpCbFlrUFNlbUxTUT09 \nMeeting ID: 886 7824 6823\nPasscode: 502906 \nFind your local number: https://us02web.zoom.us/u/kEWLcDGNp \n 
URL:https://davma.org/event/dec-sec-meeting/
LOCATION:Veteran Advancement Program\, 3 Victory Lane\, Gardner\, MA\, 01440\, United States
END:VEVENT
BEGIN:VEVENT
DTSTART;TZID=UTC:20231030T103000
DTEND;TZID=UTC:20231030T130000
DTSTAMP:20260420T080344
CREATED:20231013T160300Z
LAST-MODIFIED:20231013T160300Z
UID:1176-1698661800-1698670800@davma.org
SUMMARY:Massachusetts State House Guided Tour
DESCRIPTION:Join Us:\nIf you are interested in veterans legislative issues\, please join us for a guided tour of the New State House\, the DAV-MA Offices and the DAV National Service Office in the close-by JFK Federal Building. We will stop for a no- host lunch (sandwiches) during the visit.\n\nWhat: MA State House Tour\nWhen: Monday\, October 30\, 2023\, 10:30AM\nWhere: 24 Beacon Street\nBoston\, MA 02133 \nTo Sign Up Call Commander Bob Kinsman at 978-764-7587 or email BobkDAV47@comcast.net \n \n  \n 
URL:https://davma.org/event/massachusetts-state-house-guided-tour/
LOCATION:MA State House\, 24 Beacon Street\, Boston\, MA\, 02133\, United States
END:VEVENT
BEGIN:VEVENT
DTSTART;TZID=UTC:20231018T090000
DTEND;TZID=UTC:20231018T120000
DTSTAMP:20260420T080344
CREATED:20230905T151136Z
LAST-MODIFIED:20230905T151136Z
UID:1078-1697619600-1697630400@davma.org
SUMMARY:Free Dental Care to Veterans
DESCRIPTION:Harvard School of Dental Medicine is hosting an event offering free dental care to Veterans! \nWhat: Free dental care to Veterans\nWhen: Saturday\, Oct. 28\, from 9:00 a.m. to 12:00 p.m.\nWhere: Harvard Dental Center\, 188 Longwood Ave\, Boston\, MA 02115\nHow do I sign up? Visit https://forms.microsoft.com/r/mMuKVJrMu3 \nDental Exams\, X-rays\, Oral Cancer Screenings\, Prosthodontists\, and Other Specialty Consults will be offered at no cost to Veterans. \nWalk-ins are welcome\, but they ask everyone to please RSVP beforehand so that they can prepare for the number of patients they will see for the day.
URL:https://davma.org/event/free-dental-care-to-veterans/
LOCATION:Harvard Dental Center\, 188 Longwood Ave\, Boston\, MA\, 02115\, United States
END:VEVENT
BEGIN:VEVENT
DTSTART;TZID=UTC:20231008T130000
DTEND;TZID=UTC:20231008T150000
DTSTAMP:20260420T080344
CREATED:20230922T155350Z
LAST-MODIFIED:20230927T174640Z
UID:1115-1696770000-1696777200@davma.org
SUMMARY:Bedford Area Indigenous Peoples Day Celebration
DESCRIPTION:Sunday October 8\, 2023 at 1pm the Middlesex Community College Quad will host the Bedford Area Indigenous Peoples Day Celebration\, featuring the Mashpee Wampanoag Red Hawk singers & dancers. \nPlease come out and join us at this fun filled event! \n 
URL:https://davma.org/event/bedford-area-indigenous-peoples-day-celebration/
LOCATION:Middlesex Community College\, 591 Springs Rd\, Bedford\, MA\, 01730\, United States
END:VEVENT
BEGIN:VEVENT
DTSTART;TZID=UTC:20230930T100000
DTEND;TZID=UTC:20230930T140000
DTSTAMP:20260420T080344
CREATED:20230922T133101Z
LAST-MODIFIED:20230922T133101Z
UID:1112-1696068000-1696082400@davma.org
SUMMARY:Chair City Luge
DESCRIPTION:The Veterans Advancement Program staff & residents will battle each other in their homemade carts this year at the Chair City Luge at the Gardner Ale House\, Saturday September 30th at 10am. \nCome out and cheer them on! This year is Star Wars themed\, and we will be having Chewbacca pushed down hill by Hans Solo. \nThe Gardner Chair Luge is held in Downtown Gardner during the Oktoberfest “Party In The Street” at the Gardner Ale House. The idea is to get a chair\, put wheels on it\, put some kind of brakes and steering on it\, don a helmet and roll downhill\, starting at the Gardner Ale House and finishing at Beauregard Liquors. Teams of two build their ride and race each other down the street for about 200 yards\, trying not to crash\, and the winner is crowned champion. The Acadian Social Club features “Human Bumpers” and a locally known emcee who’s shtick and costume are always a surprise. A theme is chosen each year to add spice and laughter\, and direct the Lugers to dress up. \nThe Gardner Chair Luge was created in 2009. The event has since been taken on as a collaborative project by the Acadian Social Club\, Gardner Ale House\, and Gardner Festival Committee.
URL:https://davma.org/event/chair-city-luge/
LOCATION:Gardner Ale House\, 74 Parker Street\, Gardner\, MA\, 01440\, United States
END:VEVENT
BEGIN:VEVENT
DTSTART;TZID=UTC:20230929T173000
DTEND;TZID=UTC:20230929T200000
DTSTAMP:20260420T080344
CREATED:20230809T201943Z
LAST-MODIFIED:20230809T201943Z
UID:993-1696008600-1696017600@davma.org
SUMMARY:Veteran Community Reception
DESCRIPTION:The Dolce Center for the Advancement of Veterans and Servicemembers (CAVS) cordially invites you to our annual veteran community reception. Please click the Eventbrite link to secure your spot. 
URL:https://davma.org/event/veteran-community-reception/
LOCATION:Horticultural Hall\, 300 Mass Ave\, Boston\, MA\, 02115
END:VEVENT
BEGIN:VEVENT
DTSTART;TZID=UTC:20230928T080000
DTEND;TZID=UTC:20231001T170000
DTSTAMP:20260420T080344
CREATED:20230510T021051Z
LAST-MODIFIED:20230510T021051Z
UID:615-1695888000-1696179600@davma.org
SUMMARY:DAVA National Fall Conference
DESCRIPTION:
URL:https://davma.org/event/dava-national-fall-conference/
LOCATION:Holiday Inn Cincinnati Airport\, 1717 Airport Exchange Blvd\, Erlanger\, KY\, United States
CATEGORIES:DAVA Conference
END:VEVENT
BEGIN:VEVENT
DTSTART;TZID=UTC:20230917T090000
DTEND;TZID=UTC:20230917T150000
DTSTAMP:20260420T080344
CREATED:20230831T161818Z
LAST-MODIFIED:20230831T161832Z
UID:1068-1694941200-1694962800@davma.org
SUMMARY:3rd Annual Car Show
DESCRIPTION:Veterans Development Corporation will host their 3rd Annual Car Show Sunday September 17\, 2023 from 9am-3pm at 141 Washington Street\, Auburn\, MA. (rain date Oct. 1\, 2023) \nProceeds from the event will benefit the DAV Department of Massachusetts\, Mission 22\, and Veterans Inc. \nPlease click the link below to open the flyer:\nCar Show
URL:https://davma.org/event/3rd-annual-car-show/
LOCATION:3rd Annual Car Show\, 141 Washington Street\, Auburn\, MA\, 01501\, United States
END:VEVENT
BEGIN:VEVENT
DTSTART;TZID=UTC:20230916T090000
DTEND;TZID=UTC:20230916T140000
DTSTAMP:20260420T080344
CREATED:20230901T180927Z
LAST-MODIFIED:20230901T180927Z
UID:1075-1694854800-1694872800@davma.org
SUMMARY:DSO/CSO Level I & II Training
DESCRIPTION:Boston NSO Office will host a DSO/CSO Level I & II training on Saturday\, September 16th at the Veterans Advancement Program in Gardner\, MA. Training will begin promptly at 9am! \n  \nThis will be the last opportunity this year to get certified to do claim work. The next training will be held at our Department Convention in June 2024.
URL:https://davma.org/event/dso-cso-level-i-ii-training/
LOCATION:DAV Veteran Advancement Program\, 3 Victory Lane\, Gardner\, MA\, 01440\, United States
END:VEVENT
BEGIN:VEVENT
DTSTART;TZID=UTC:20230915T080000
DTEND;TZID=UTC:20230915T140000
DTSTAMP:20260420T080344
CREATED:20230802T224054Z
LAST-MODIFIED:20230802T224054Z
UID:981-1694764800-1694786400@davma.org
SUMMARY:NECHV Veteran Stand Down - Boston
DESCRIPTION:The DAV Department of Massachusetts will participate as a vendor at the NECHV Veterans Stand Down at Boston City Hall Plaza\, 8-2pm on Friday September 15th. \nWe will provide information about the many services and programs DAV offers\, and offer claims and benefits assistance on site. \nIf you would like to volunteer to assist\, please contact us at inquiry@davma.org \n 
URL:https://davma.org/event/nechv-veteran-stand-down-boston/
LOCATION:1 City Hall Square\, Boston\, MA 02203\, 1 City Hall Square\, MA\, 02203\, United States
END:VEVENT
BEGIN:VEVENT
DTSTART;TZID=UTC:20230914T110000
DTEND;TZID=UTC:20230914T150000
DTSTAMP:20260420T080344
CREATED:20230810T154415Z
LAST-MODIFIED:20230810T154415Z
UID:998-1694689200-1694703600@davma.org
SUMMARY:DAV Job Fair at Gillette Stadium
DESCRIPTION:DAV & Recruit Military will be hosting a job fair Thursday\, September 14\, 2023 at Gillette Stadium in Foxborough\, MA (11am-3pm). \nRecruitMilitary has held 32 events in Massachusetts\, drawing 7\,136 attendees and 2\,034 exhibitors. The employers coming to the event have over 21k jobs available\, and are specifically seeking veterans and veterans families for employment. \nYou must pre-register for this event. Please see link & flyer below for more details \n  \n \nBoston_GilletteStadium_0923
URL:https://davma.org/event/dav-job-fair-at-gillette-stadium/
LOCATION:Gillette Stadium\, One Patriot Place\, W3 Entrance\, Suite Blue & Red\, Foxbourough\, MA\, 02035\, United States
END:VEVENT
BEGIN:VEVENT
DTSTART;TZID=UTC:20230910T120000
DTEND;TZID=UTC:20230910T180000
DTSTAMP:20260420T080344
CREATED:20230809T174609Z
LAST-MODIFIED:20230809T174609Z
UID:987-1694347200-1694368800@davma.org
SUMMARY:Veterans Beach Party
DESCRIPTION:DAV E.F. Gilmore Chapter 64 presents a Veterans Beach Party on Sunday September 10\, 2023 at the Red Rock Park in Lynn\, Massachusetts. The event begins at 12pm (noon). We hope to see you there!! \nThis event is for veterans\, their families\, and the community! Theme is red\, white\, & BBQ. (BYO Beach Chairs) \nThere will be food\, music\, raffles\, games\, and more!! \n  \n \n 
URL:https://davma.org/event/veterans-beach-party/
END:VEVENT
BEGIN:VEVENT
DTSTART;TZID=UTC:20230909T120000
DTEND;TZID=UTC:20230909T140000
DTSTAMP:20260420T080344
CREATED:20230905T151758Z
LAST-MODIFIED:20230905T151758Z
UID:1082-1694260800-1694268000@davma.org
SUMMARY:Fundraiser for veterans affected by the Maui wildfires and Hurricane Idalia
DESCRIPTION:E. F. Gilmore DAV to raise money for veterans affected by the Maui wildfires and Hurricane Idalia. \nJeffrey Blonder\, Commander of the E. F. Gilmore chapter of the Disabled American Veterans announce today that they will be raising funds to provide aid to veterans affected by the Maui wildfires and Hurricane Idalia.  All funds raised thru this effort will be donated to the DAV Disaster Relief Program.  The DAV Disaster Relief Program was created in 1968 and since the program’s inception in 1968\, over $19.5 million has been disbursed to veterans as a result of the DAV relief efforts.\n“When disasters strike\, DAV and its team of National Service Officers are on the ground to help our nation’s heroes. DAV provides relief through financial assistance as well as supply kits to veterans and their families so they can obtain basic necessities such as food\, warm clothes and shelter. In 2022\, DAV provided a total of $2\,052\,500 emergency relief drafts and roughly 975 supply kits to the disaster relief program. Blonder said. \n“Your gift will help ensure we are able to continue to support our nation’s heroes during trying times such as these well into the future\, Commander Blonder added. \nAny resident who would like to contribute to this program can mail a check to E. F. Gilmore DAV\, 8 Pine Street\, Swampscott\, MA 01907.  In addition\, members of the DAV will be at Swampscott High School on Saturday September 9th from Noon – 2:00 P.M. to receive donations.
URL:https://davma.org/event/fundraiser-for-veterans-affected-by-the-maui-wildfires-and-hurricane-idalia/
LOCATION:Swampscott High School\, 8 Pine Street\, Swampscott\, MA\, 01907\, United States
END:VEVENT
BEGIN:VEVENT
DTSTART;TZID=UTC:20230909T100000
DTEND;TZID=UTC:20230909T120000
DTSTAMP:20260420T080344
CREATED:20230510T022847Z
LAST-MODIFIED:20230825T221051Z
UID:623-1694253600-1694260800@davma.org
SUMMARY:DEC/SEC Meeting
DESCRIPTION:Department Executive Committee (DEC) Meeting will be hybrid format. The meeting will be held at our Veterans Advancement Program in Gardner\, MA. Coffee hour will begin at 9am\, with meeting beginning promptly at 10am. \nState Executive Committee (SEC) Meeting will be held in-person only. Coffee hour will begin at 9am\, with meeting beginning promptly at 10am. \nWe strongly recommended in-person attendance\, if able. This will be our first DEC/SEC meeting back from summer break for Conventions with our new Line! \nDEC Zoom Link:\n \nhttps://us02web.zoom.us/j/84130012465?pwd=ZmJVQnJEQitZSkNTdlRWMmdHMU8wQT09 \nMeeting ID: 841 3001 2465\nPasscode: 038378 \n 
URL:https://davma.org/event/department-executive-committee-meetings/
LOCATION:Veteran Advancement Program\, 3 Victory Lane\, Gardner\, MA\, 01440\, United States
CATEGORIES:DEC Meeting
END:VEVENT
BEGIN:VEVENT
DTSTART;TZID=UTC:20230830T100000
DTEND;TZID=UTC:20230830T140000
DTSTAMP:20260420T080344
CREATED:20230801T211747Z
LAST-MODIFIED:20230801T211747Z
UID:975-1693389600-1693404000@davma.org
SUMMARY:Chapter Treasurer Training
DESCRIPTION:The DAV Department of Massachusetts will host their annual Chapter Treasurer training on Wednesday\, August 30th from 10am-2pm. The training will be hybrid format\, but we highly recommend attending in-person. If you have any questions\, please contact Department Inspector Deb Olson at dolson@davma.org or Assistant Adjutant Mike Valila at mvalila@davma.org \nHosted at:\nDAV Veterans Advancement Program\n3 Victory lane\nGardner\, MA 01440 \n  \nBy Zoom: \nhttps://us02web.zoom.us/j/88030380274?pwd=YU9EemN5NFd0QkVpQTR4NkNGZHBNUT09 \nMeeting ID: 880 3038 0274\nPasscode: 228729 \nFind your local number: https://us02web.zoom.us/u/kbckLxjh0 \n 
URL:https://davma.org/event/chapter-treasurer-training/
LOCATION:DAV Veteran Advancement Program\, 3 Victory Lane\, Gardner\, MA\, 01440\, United States
END:VEVENT
BEGIN:VEVENT
DTSTART;TZID=UTC:20230830T080000
DTEND;TZID=UTC:20230830T170000
DTSTAMP:20260420T080344
CREATED:20230510T021218Z
LAST-MODIFIED:20230510T021819Z
UID:618-1693382400-1693414800@davma.org
SUMMARY:Board of Directors Meetings
DESCRIPTION:Upcoming Scheduled Meetings\n\nFebruary 28\, 2024\nMay 1\, 2024
URL:https://davma.org/event/board-of-directors-meetings/
CATEGORIES:BOD Meeting
END:VEVENT
BEGIN:VEVENT
DTSTART;VALUE=DATE:20230826
DTEND;VALUE=DATE:20230827
DTSTAMP:20260420T080344
CREATED:20230801T210214Z
LAST-MODIFIED:20230801T210214Z
UID:973-1693008000-1693094399@davma.org
SUMMARY:CVMA Valhalla Run 2023
DESCRIPTION:The DAV Department of Massachusetts has been asked to attend and table at the Combat Veterans Motorcycle Association MA Chapter 2-1 Valhalla Run 2023.\nDepartment Service Officers will be on hand for any veteran in need of claims assistance. \nIf you own a motorcycle and would like to attend the ride\, please follow the link below. Registration is $20 per rider\, and $20 per passenger. \nThe event will take place Saturday August 26th at SAC Park\, 438 Lake Street\, Shrewsbury\, MA (registration begins at 0900). \nThere will be raffle prizes\, 50/50\, food & drinks\, bon fire\, motorcycle ride\, and more! \n  \nValhalla Run 2023 – Combat Veterans Motorcycle Association® MA Chapter 2-1 (cvma2-1.org) \n 
URL:https://davma.org/event/cvma-valhalla-run-2023/
END:VEVENT
BEGIN:VEVENT
DTSTART;TZID=UTC:20230825T060000
DTEND;TZID=UTC:20230825T120000
DTSTAMP:20260420T080344
CREATED:20230615T221905Z
LAST-MODIFIED:20230615T221905Z
UID:914-1692943200-1692964800@davma.org
SUMMARY:Fox25 ZipTrip - Natick
DESCRIPTION:The DAV Department of MA will once again be featured each Friday throughout the summer on Fox25 News at their ZipTrip locations around the Commonwealth!! \nDAV will have a table at the event\, providing outreach\, claims assistance\, educating the public about our many services and programs\, and more! \nWe would love to have you join us! This is a great opportunity for DAV members and Auxiliary members to use as a recruiting tool. For more information\, please contact Assistant Adjutant Mike Valila at mvalila@davma.org
URL:https://davma.org/event/fox25-ziptrip-natick/
LOCATION:ZipTrip\, Natick\, MA\, United States
END:VEVENT
BEGIN:VEVENT
DTSTART;TZID=UTC:20230824T180000
DTEND;TZID=UTC:20230824T200000
DTSTAMP:20260420T080344
CREATED:20230811T002751Z
LAST-MODIFIED:20230811T002751Z
UID:1007-1692900000-1692907200@davma.org
SUMMARY:PACT Act Benefits Info Social
DESCRIPTION:JFK Silver Star Memorial Chapter 3 will host a PACT Act Veterans Benefits info social on August 24\, 2023. Speakers will include DAV & DAV Auxiliary\, CapTel\, Boston University\, and more! \nService Officers will be on site to provide free claims assistance. \nPlease see flyer below for further information
URL:https://davma.org/event/pact-act-benefits-info-social/
END:VEVENT
BEGIN:VEVENT
DTSTART;TZID=UTC:20230823T080000
DTEND;TZID=UTC:20230823T170000
DTSTAMP:20260420T080344
CREATED:20230823T163308Z
LAST-MODIFIED:20230823T163308Z
UID:1062-1692777600-1692810000@davma.org
SUMMARY:Topsfield Fair
DESCRIPTION:DAV will once again be at the Topsfield Fair on Saturday September 30th! E.F. Giflmore Chapter 64 will have a table providing resources\, assisting with claims\, and more!\nIf you would like to assist in tabling the event\, please contact Commander Jeffrey Blonder at e_f_gilmore_dav_chapter64@yahoo.com \n  \n  \nFor more information on the Topsfield Fair\, please follow this link: The Topsfield Fair
URL:https://davma.org/event/topsfield-fair/
END:VEVENT
END:VCALENDAR