BEGIN:VCALENDAR
VERSION:2.0
PRODID:-//DAV Massachusetts - ECPv6.15.20//NONSGML v1.0//EN
CALSCALE:GREGORIAN
METHOD:PUBLISH
X-WR-CALNAME:DAV Massachusetts
X-ORIGINAL-URL:https://davma.org
X-WR-CALDESC:Events for DAV Massachusetts
REFRESH-INTERVAL;VALUE=DURATION:PT1H
X-Robots-Tag:noindex
X-PUBLISHED-TTL:PT1H
BEGIN:VTIMEZONE
TZID:UTC
BEGIN:STANDARD
TZOFFSETFROM:+0000
TZOFFSETTO:+0000
TZNAME:UTC
DTSTART:20250101T000000
END:STANDARD
END:VTIMEZONE
BEGIN:VEVENT
DTSTART;TZID=UTC:20260416T120000
DTEND;TZID=UTC:20260419T170000
DTSTAMP:20260419T231655
CREATED:20260131T063723Z
LAST-MODIFIED:20260201T024110Z
UID:2180-1776340800-1776618000@davma.org
SUMMARY:Salute to DAV & the Auxiliary – Joint Testimonial Event
DESCRIPTION:The DAV Department of Massachusetts is proud to invite our members\, supporters\, and friends to attend a special Joint Testimonial honoring three outstanding leaders who have dedicated themselves to serving our nation’s veterans: \n\n National Commander – Coleman Nee\n MA Department Commander – Andrea Gayle-Bennett\n MA Auxiliary State Commander – Cindy Legge\n\n\nThis event is an opportunity to come together in fellowship\, show our appreciation\, and celebrate the impact these leaders have made for veterans and their families—both here in Massachusetts and across the nation.\n\n\n\n\n\n Date & details: Available at the link below\n\n\n Tickets & registration:\n\nBUY TICKETS NOW\n\n\n\n\nWe encourage all DAV members\, Auxiliary members\, and supporters to attend and help us make this a memorable tribute. Please share with your Chapters\, Units\, and fellow members!
URL:https://davma.org/event/salute-to-dav-the-auxiliary-joint-testimonial-event/
LOCATION:The John Carver Inn & Spa\, 25 Summer Street\, MA\, 02360\, United States
CATEGORIES:DAV MA Event
ATTACH;FMTTYPE=image/jpeg:https://davma.org/wp-content/uploads/2026/01/The-Carver-Spa.jpg
END:VEVENT
BEGIN:VEVENT
DTSTART;TZID=UTC:20261107T080000
DTEND;TZID=UTC:20261107T170000
DTSTAMP:20260419T231655
CREATED:20260131T065813Z
LAST-MODIFIED:20260131T070931Z
UID:2187-1794038400-1794070800@davma.org
SUMMARY:DAV 5K Boston
DESCRIPTION:Run or Walk for MA Veterans\n\nIn 2026\, we look forward to returning to DCR Fort Independence at Castle Island to celebrate Veterans Day weekend together on November 7 for the 11th Annual DAV 5K Boston! Race with us on one of the “fastest and flattest” race courses and stay for our famous “post-race feast” in South Boston. #VetsRunBoston \nWe are thrilled to be back at DCR Fort Independence at Castle Island and cannot wait to see you and all of our DAV 5K Boston friends and family on Veterans Day weekend. The DAV 5K Boston race committee is working with our municipal partners at the Commonwealth of Massachusetts\, DCR\, State Police and the City of Boston to ensure a safe and responsible family-friendly event experience. \nThe DAV 5K Boston is a run\, walk or roll that thanks those who served and raises awareness of the issues our ill and injured veterans face every day. This event helps further the mission of the DAV Department of Massachusetts to ensure our injured heroes are not alone on their road to recovery. \n\n			\n				REGISTER NOW
URL:https://davma.org/event/dav-5k-boston/
LOCATION:Castle Island\, 2010 Day Blvd\, Boston\, MA\, 02127\, United States
CATEGORIES:5K Race
ATTACH;FMTTYPE=image/jpeg:https://davma.org/wp-content/uploads/2026/01/race_85815_295695_1c47930c-e662-4e48-ae2b-f7537389699d.jpg
END:VEVENT
END:VCALENDAR