BEGIN:VCALENDAR
VERSION:2.0
PRODID:-//DAV Massachusetts - ECPv6.15.20//NONSGML v1.0//EN
CALSCALE:GREGORIAN
METHOD:PUBLISH
X-WR-CALNAME:DAV Massachusetts
X-ORIGINAL-URL:https://davma.org
X-WR-CALDESC:Events for DAV Massachusetts
REFRESH-INTERVAL;VALUE=DURATION:PT1H
X-Robots-Tag:noindex
X-PUBLISHED-TTL:PT1H
BEGIN:VTIMEZONE
TZID:UTC
BEGIN:STANDARD
TZOFFSETFROM:+0000
TZOFFSETTO:+0000
TZNAME:UTC
DTSTART:20230101T000000
END:STANDARD
END:VTIMEZONE
BEGIN:VEVENT
DTSTART;TZID=UTC:20241108T190000
DTEND;TZID=UTC:20241108T220000
DTSTAMP:20260421T053900
CREATED:20241008T163522Z
LAST-MODIFIED:20241008T163522Z
UID:1782-1731092400-1731103200@davma.org
SUMMARY:Standup for Heroes Comedy Fundraiser
DESCRIPTION:On Friday\, November 8th DAV Chapter 25 Lowell will host “Stand up for Heroes” Comedy Fundraiser at the US Bunting Club\, 449 Boylston Street\, Lowell\, MA. Cash bar opens at 7pm\, followed by showtime at 8:30pm. See flyer below for further details! \n 
URL:https://davma.org/event/standup-for-heroes-comedy-fundraiser/
LOCATION:US Bunting Club\, 449 Boylston Street\, Lowell\, MA\, United States
END:VEVENT
BEGIN:VEVENT
DTSTART;TZID=UTC:20241109T100000
DTEND;TZID=UTC:20241109T130000
DTSTAMP:20260421T053900
CREATED:20240714T032246Z
LAST-MODIFIED:20240714T032246Z
UID:1663-1731146400-1731157200@davma.org
SUMMARY:DAV5k Boston
DESCRIPTION:The DAV 5K Boston proudly presented by Veterans Development Corporation returns to DCR Fort Independence at Castle Island on\nSaturday\, November 9\, 2024. \nABOUT: The DAV 5K Boston is a run\, walk or roll that thanks\nthose who served and raises awareness of the issues\nour ill and injured veterans face every day.\nDATE: Saturday\, November 9\, 2024\nTIME: 10:00 AM Race Start\nLOCATION: DCR Fort Independence at Castle Island\nCOST: Registration fee is $40 online\nVeterans Registration with a Runner Shirt is $15\nVeterans Registration without a Runner Shirt is FREE\nThe registration fee includes a long sleeve runner shirt\, a\nfinisher medal and access to the post-race celebration.\nAll proceeds support the DAV Department of MA\nDISTANCE: 5 kilometers run or 1 mile walk\nWEBSITE: www.dav5k.boston \n  \nClick Below to Expand Flyer:\nDAV5K-Flyer-2024
URL:https://davma.org/event/dav5k-boston/
LOCATION:Castle Island\, 2010 Day Blvd\, Boston\, MA\, 02127\, United States
END:VEVENT
BEGIN:VEVENT
DTSTART;TZID=UTC:20241109T183000
DTEND;TZID=UTC:20241109T210000
DTSTAMP:20260421T053900
CREATED:20241015T144643Z
LAST-MODIFIED:20241015T144643Z
UID:1788-1731177000-1731186000@davma.org
SUMMARY:Comedy for Heroes
DESCRIPTION:Come out for a night of laughter and camaraderie at the Comedy for Heroes event\, hosted by BATV. Comedians Jerry Caruso\, Bob Sheehy\, and Joey Caroll will spearhead this Comedy Show\, which will benefit Billerica DAV Chapter 47! \n 
URL:https://davma.org/event/comedy-for-heroes/
LOCATION:Billerica Access TV\, 390 Boston Road\, Billerica\, MA\, United States
END:VEVENT
BEGIN:VEVENT
DTSTART;VALUE=DATE:20241112
DTEND;VALUE=DATE:20241113
DTSTAMP:20260421T053900
CREATED:20240918T235200Z
LAST-MODIFIED:20240918T235200Z
UID:1759-1731369600-1731455999@davma.org
SUMMARY:The Department Board of Directors (BOD Meeting)
DESCRIPTION:The Department Board of Directors (BOD Meeting) will be held by Zoom on Monday\, November 12\, 2024 at 7pm. \n  \nPlease contact Department Adjutant Mike Valila at mvalila@davma.org for more details or information.
URL:https://davma.org/event/the-department-board-of-directors-bod-meeting/
LOCATION:MA
END:VEVENT
BEGIN:VEVENT
DTSTART;TZID=UTC:20241116T100000
DTEND;TZID=UTC:20241116T120000
DTSTAMP:20260421T053900
CREATED:20240918T234844Z
LAST-MODIFIED:20240918T234844Z
UID:1757-1731751200-1731758400@davma.org
SUMMARY:Department Executive Committee Meeting (DEC/SEC)
DESCRIPTION:Our Department Executive Committee\, and Auxiliary State Executive Committee (DEC/SEC) meetings will be held on Saturday November 16\, 2024 at 10am. \nPlease note this meeting will be held at Malden Chapter 85\, which is located at 85 Willow Street Malden\, MA. \nDoors will open at 9am for coffee hour\, and meeting will begin promptly at 10am. Please note this meeting will be held in a hybrid format. If you are unable to join in-person\, please use the Zoom link below: \n  \n\nTime: Nov 16\, 2024 10:00 AM Eastern Time \n\nJoin Zoom Meeting\nhttps://us06web.zoom.us/j/86161825764?pwd=KliBoYDHDfFEHx2nq5XCv3on1X3fwJ.1\n\nMeeting ID: 861 6182 5764\nPasscode: 426619\n\nFind your local number: https://us06web.zoom.us/u/knbWA8Ml3
URL:https://davma.org/event/department-executive-committee-meeting-dec-sec-3/
LOCATION:DAV Chapter 85\, 85 Willow Street\, Malden\, MA\, 02148\, United States
END:VEVENT
BEGIN:VEVENT
DTSTART;TZID=UTC:20250303T190000
DTEND;TZID=UTC:20250303T200000
DTSTAMP:20260421T053900
CREATED:20250225T140033Z
LAST-MODIFIED:20250225T140033Z
UID:1883-1741028400-1741032000@davma.org
SUMMARY:The Department Board of Directors Meeting (BOD Meeting)
DESCRIPTION:The Department Board of Directors (BOD Meeting) will be held by Zoom on Monday\, March 3\, 2025 at 7pm via Zoom. \nPlease contact Department Adjutant Mike Valila at mvalila@davma.org for more details or information.
URL:https://davma.org/event/the-department-board-of-directors-meeting-bod-meeting/
LOCATION:MA
END:VEVENT
BEGIN:VEVENT
DTSTART;TZID=UTC:20250308T100000
DTEND;TZID=UTC:20250308T120000
DTSTAMP:20260421T053900
CREATED:20250225T140604Z
LAST-MODIFIED:20250225T140604Z
UID:1885-1741428000-1741435200@davma.org
SUMMARY:Department Executive Committee Meeting (DEC/SEC)
DESCRIPTION:Our Department Executive Committee\, and Auxiliary State Executive Committee (DEC/SEC) meetings will be held on Saturday\, March 8\, 2025 at 10am. \nPlease note that this meeting will be held at Malden Chapter 85\, which is located at 85 Willow Street in Malden\, MA. \nDoors will open at 9am for coffee hour\, and the meeting will begin promptly at 10am. Please note that this meeting will be held in hybrid format. If you are unable to join in-person\, please use the Zoom link below: \nTime: Mar 8\, 2025 10:00 AM Eastern Time \nJoin Zoom Meeting\nhttps://us06web.zoom.us/j/84630030400?pwd=BrxVgMIf3lXiabqhaPUynRMZNbAS9c.1\n\nMeeting ID: 846 3003 0400\nPasscode: 201682
URL:https://davma.org/event/department-executive-committee-meeting-dec-sec-4/
LOCATION:DAV Chapter 85\, 85 Willow Street\, Malden\, MA\, 02148\, United States
END:VEVENT
BEGIN:VEVENT
DTSTART;TZID=UTC:20250505T190000
DTEND;TZID=UTC:20250505T200000
DTSTAMP:20260421T053900
CREATED:20250225T141233Z
LAST-MODIFIED:20250225T141233Z
UID:1887-1746471600-1746475200@davma.org
SUMMARY:The Department Board of Directors Meeting (BOD Meeting)
DESCRIPTION:The Department Board of Directors (BOD Meeting) will be held by Zoom on Monday\, May 5\, 2025 at 7pm via Zoom. \nPlease contact Department Adjutant Mike Valila at mvalila@davma.org for more details or information.
URL:https://davma.org/event/the-department-board-of-directors-meeting-bod-meeting-2/
LOCATION:MA
END:VEVENT
BEGIN:VEVENT
DTSTART;TZID=UTC:20250510T100000
DTEND;TZID=UTC:20250510T120000
DTSTAMP:20260421T053900
CREATED:20250225T142044Z
LAST-MODIFIED:20250225T142044Z
UID:1893-1746871200-1746878400@davma.org
SUMMARY:Department Executive Committee Meeting (DEC/SEC)
DESCRIPTION:Our Department Executive Committee\, and Auxiliary State Executive Committee (DEC/SEC) meetings will be held on Saturday\, May 10\, 2025 at 10am. \nPlease note that this meeting will be held at Malden Chapter 85\, which is located at 85 Willow Street in Malden\, MA. \nDoors will open at 9am for coffee hour\, and the meeting will begin promptly at 10am. Please note that this meeting will be held in hybrid format. If you are unable to join in-person\, please use the Zoom link below: \nTime: May 10\, 2025 10:00 AM Eastern Time (US and Canada)\nJoin Zoom Meeting\nhttps://us06web.zoom.us/j/83503386666?pwd=82zLyeT2FUOERsLdqY1nuAvSdMdQ7y.1\n\nMeeting ID: 835 0338 6666\nPasscode: 816593
URL:https://davma.org/event/department-executive-committee-meeting-dec-sec-5/
LOCATION:DAV Chapter 85\, 85 Willow Street\, Malden\, MA\, 02148\, United States
END:VEVENT
BEGIN:VEVENT
DTSTART;VALUE=DATE:20250605
DTEND;VALUE=DATE:20250609
DTSTAMP:20260421T053900
CREATED:20250225T150054Z
LAST-MODIFIED:20250225T150054Z
UID:1899-1749081600-1749427199@davma.org
SUMMARY:2025 DAV Department Convention
DESCRIPTION:Department Convention will be held June 5th-8th\, 2025 at the DoubleTree Hilton\, 99 Erdman Way\, Leominster MA. \n 
URL:https://davma.org/event/2025-dav-department-convention/
LOCATION:Doubletree Hilton\, 99 Erdman Way\, Leominster\, MA\, United States
END:VEVENT
BEGIN:VEVENT
DTSTART;TZID=UTC:20250908T190000
DTEND;TZID=UTC:20250908T200000
DTSTAMP:20260421T053900
CREATED:20250225T141326Z
LAST-MODIFIED:20250827T164032Z
UID:1889-1757358000-1757361600@davma.org
SUMMARY:The Department Board of Directors Meeting (BOD Meeting)
DESCRIPTION:The Department Board of Directors (BOD Meeting) will be held by Zoom on Monday\, September 8\, 2025 at 7pm via Zoom. \nPlease contact Department Adjutant Mike Valila at mvalila@davma.org for more details or information.
URL:https://davma.org/event/the-department-board-of-directors-meeting-bod-meeting-3/
LOCATION:MA
END:VEVENT
BEGIN:VEVENT
DTSTART;TZID=UTC:20250913T100000
DTEND;TZID=UTC:20250913T120000
DTSTAMP:20260421T053900
CREATED:20250225T143122Z
LAST-MODIFIED:20250827T171013Z
UID:1895-1757757600-1757764800@davma.org
SUMMARY:Department Executive Committee Meeting (DEC/SEC)
DESCRIPTION:Our Department Executive Committee\, and Auxiliary State Executive Committee (DEC/SEC) meetings will be held on Saturday\, September 13\, 2025 at 10am. \nPlease note that this meeting will be held at Malden Chapter 85\, which is located at 85 Willow Street in Malden\, MA. \nDoors will open at 9am for coffee hour\, and the meeting will begin promptly at 10am. Please note that this meeting will be held in hybrid format. If you are unable to join in-person\, please use the Zoom link below: \n\nTime: Sep 13\, 2025 10:00 AM Eastern Time (US and Canada)\nJoin Zoom Meeting\nhttps://us06web.zoom.us/j/89415220571?pwd=8EkK1nzRzz77wgePcAeejDtJEkHYAn.1 \nMeeting ID: 894 1522 0571\nPasscode: 244178 \n\n 
URL:https://davma.org/event/department-executive-committee-meeting-dec-sec-6/
LOCATION:DAV Chapter 85\, 85 Willow Street\, Malden\, MA\, 02148\, United States
END:VEVENT
BEGIN:VEVENT
DTSTART;TZID=UTC:20250913T120000
DTEND;TZID=UTC:20250913T170000
DTSTAMP:20260421T053900
CREATED:20250827T164805Z
LAST-MODIFIED:20250827T171155Z
UID:1964-1757764800-1757782800@davma.org
SUMMARY:Make-up Training - Level I & II DSO/CSO
DESCRIPTION:Level I & II DSO/CSO make-up training will be held on Saturday\, November 13\, 2025 at 85 Willow Street\, Malden MA from 12pm-5pm (immediately following DEC Meeting). Please ensure that you are registered to attend in advance by reaching out to Deb Olson at Dolson@davma.org . You must bring a computer/laptop with you to this training\, as all training and testing is completed on the computer.
URL:https://davma.org/event/make-up-training-level-i-ii-dso-cso/
LOCATION:DAV Chapter 85\, 85 Willow Street\, Malden\, MA\, 02148\, United States
END:VEVENT
BEGIN:VEVENT
DTSTART;TZID=UTC:20250915T120000
DTEND;TZID=UTC:20250915T180000
DTSTAMP:20260421T053900
CREATED:20250225T152147Z
LAST-MODIFIED:20250225T152147Z
UID:1901-1757937600-1757959200@davma.org
SUMMARY:16th Annual DAV MA Corporate Golf Tournament
DESCRIPTION:
URL:https://davma.org/event/16th-annual-dav-ma-corporate-golf-tournament/
LOCATION:Granite Links\, 100 Quarry Hills Drive\, Quincy\, MA\, 02169\, United States
END:VEVENT
BEGIN:VEVENT
DTSTART;TZID=UTC:20251108T080000
DTEND;TZID=UTC:20251108T120000
DTSTAMP:20260421T053900
CREATED:20250225T153011Z
LAST-MODIFIED:20250225T153011Z
UID:1905-1762588800-1762603200@davma.org
SUMMARY:2025 DAV5k Boston
DESCRIPTION:
URL:https://davma.org/event/2025-dav5k-boston/
LOCATION:Castle Island\, 2010 Day Blvd\, Boston\, MA\, 02127\, United States
END:VEVENT
BEGIN:VEVENT
DTSTART;TZID=UTC:20251110T190000
DTEND;TZID=UTC:20251110T200000
DTSTAMP:20260421T053900
CREATED:20250225T141418Z
LAST-MODIFIED:20250827T164939Z
UID:1891-1762801200-1762804800@davma.org
SUMMARY:The Department Board of Directors Meeting (BOD Meeting)
DESCRIPTION:The Department Board of Directors (BOD Meeting) will be held by Zoom on Monday\, November 10\, 2025 at 7pm via Zoom. \nPlease contact Department Adjutant Mike Valila at mvalila@davma.org for more details or information.
URL:https://davma.org/event/the-department-board-of-directors-meeting-bod-meeting-4/
LOCATION:MA
END:VEVENT
BEGIN:VEVENT
DTSTART;TZID=UTC:20251115T100000
DTEND;TZID=UTC:20251115T120000
DTSTAMP:20260421T053900
CREATED:20250225T143342Z
LAST-MODIFIED:20250827T165058Z
UID:1897-1763200800-1763208000@davma.org
SUMMARY:Department Executive Committee Meeting (DEC/SEC)
DESCRIPTION:Our Department Executive Committee\, and Auxiliary State Executive Committee (DEC/SEC) meetings will be held on Saturday\, November 15\, 2025 at 10am. \nPlease note that this meeting will be held at Malden Chapter 85\, which is located at 85 Willow Street in Malden\, MA. \nDoors will open at 9am for coffee hour\, and the meeting will begin promptly at 10am. Please note that this meeting will be held in hybrid format. If you are unable to join in-person\, please use the Zoom link below: \n  \n\nTime: Nov 15\, 2025 10:00 AM Eastern Time (US and Canada)\nJoin Zoom Meeting\nhttps://us06web.zoom.us/j/81701349260?pwd=fYfxNnCtiBc7kKK17awjLYbb30CC86.1 \nMeeting ID: 817 0134 9260\nPasscode: 314915
URL:https://davma.org/event/department-executive-committee-meeting-dec-sec-7/
LOCATION:DAV Chapter 85\, 85 Willow Street\, Malden\, MA\, 02148\, United States
END:VEVENT
BEGIN:VEVENT
DTSTART;TZID=UTC:20260416T120000
DTEND;TZID=UTC:20260419T170000
DTSTAMP:20260421T053900
CREATED:20260131T063723Z
LAST-MODIFIED:20260201T024110Z
UID:2180-1776340800-1776618000@davma.org
SUMMARY:Salute to DAV & the Auxiliary – Joint Testimonial Event
DESCRIPTION:The DAV Department of Massachusetts is proud to invite our members\, supporters\, and friends to attend a special Joint Testimonial honoring three outstanding leaders who have dedicated themselves to serving our nation’s veterans: \n\n National Commander – Coleman Nee\n MA Department Commander – Andrea Gayle-Bennett\n MA Auxiliary State Commander – Cindy Legge\n\n\nThis event is an opportunity to come together in fellowship\, show our appreciation\, and celebrate the impact these leaders have made for veterans and their families—both here in Massachusetts and across the nation.\n\n\n\n\n\n Date & details: Available at the link below\n\n\n Tickets & registration:\n\nBUY TICKETS NOW\n\n\n\n\nWe encourage all DAV members\, Auxiliary members\, and supporters to attend and help us make this a memorable tribute. Please share with your Chapters\, Units\, and fellow members!
URL:https://davma.org/event/salute-to-dav-the-auxiliary-joint-testimonial-event/
LOCATION:The John Carver Inn & Spa\, 25 Summer Street\, MA\, 02360\, United States
CATEGORIES:DAV MA Event
ATTACH;FMTTYPE=image/jpeg:https://davma.org/wp-content/uploads/2026/01/The-Carver-Spa.jpg
END:VEVENT
BEGIN:VEVENT
DTSTART;TZID=UTC:20261107T080000
DTEND;TZID=UTC:20261107T170000
DTSTAMP:20260421T053900
CREATED:20260131T065813Z
LAST-MODIFIED:20260131T070931Z
UID:2187-1794038400-1794070800@davma.org
SUMMARY:DAV 5K Boston
DESCRIPTION:Run or Walk for MA Veterans\n\nIn 2026\, we look forward to returning to DCR Fort Independence at Castle Island to celebrate Veterans Day weekend together on November 7 for the 11th Annual DAV 5K Boston! Race with us on one of the “fastest and flattest” race courses and stay for our famous “post-race feast” in South Boston. #VetsRunBoston \nWe are thrilled to be back at DCR Fort Independence at Castle Island and cannot wait to see you and all of our DAV 5K Boston friends and family on Veterans Day weekend. The DAV 5K Boston race committee is working with our municipal partners at the Commonwealth of Massachusetts\, DCR\, State Police and the City of Boston to ensure a safe and responsible family-friendly event experience. \nThe DAV 5K Boston is a run\, walk or roll that thanks those who served and raises awareness of the issues our ill and injured veterans face every day. This event helps further the mission of the DAV Department of Massachusetts to ensure our injured heroes are not alone on their road to recovery. \n\n			\n				REGISTER NOW
URL:https://davma.org/event/dav-5k-boston/
LOCATION:Castle Island\, 2010 Day Blvd\, Boston\, MA\, 02127\, United States
CATEGORIES:5K Race
ATTACH;FMTTYPE=image/jpeg:https://davma.org/wp-content/uploads/2026/01/race_85815_295695_1c47930c-e662-4e48-ae2b-f7537389699d.jpg
END:VEVENT
END:VCALENDAR