BEGIN:VCALENDAR
VERSION:2.0
PRODID:-//DAV Massachusetts - ECPv6.15.20//NONSGML v1.0//EN
CALSCALE:GREGORIAN
METHOD:PUBLISH
X-ORIGINAL-URL:https://davma.org
X-WR-CALDESC:Events for DAV Massachusetts
REFRESH-INTERVAL;VALUE=DURATION:PT1H
X-Robots-Tag:noindex
X-PUBLISHED-TTL:PT1H
BEGIN:VTIMEZONE
TZID:UTC
BEGIN:STANDARD
TZOFFSETFROM:+0000
TZOFFSETTO:+0000
TZNAME:UTC
DTSTART:20220101T000000
END:STANDARD
END:VTIMEZONE
BEGIN:VEVENT
DTSTART;TZID=UTC:20240803T080000
DTEND;TZID=UTC:20240806T170000
DTSTAMP:20260420T112830
CREATED:20230510T030023Z
LAST-MODIFIED:20230615T213931Z
UID:645-1722672000-1722963600@davma.org
SUMMARY:2024 DAV and DAVA National Convention
DESCRIPTION:Hotels:\nHyatt Regency Phoenix\n122 N Second Street\nPhoenix\, AZ  85004\n$154 Single/Double \nSheraton Grand Phoenix\n340 North 3rd Street\nPhoenix\, AZ  85004\n$149 Single/Double
URL:https://davma.org/event/2024-dav-and-dava-national-convention/
LOCATION:Phoenix Convention Center\, 100 North Third Street\, Phoenix\, AZ\, United States
CATEGORIES:Convention
END:VEVENT
BEGIN:VEVENT
DTSTART;VALUE=DATE:20240307
DTEND;VALUE=DATE:20240311
DTSTAMP:20260420T112830
CREATED:20230510T025408Z
LAST-MODIFIED:20231122T225400Z
UID:637-1709769600-1710115199@davma.org
SUMMARY:Mid-Winter Conference
DESCRIPTION:Crystal Gateway Marriott1700 Jefferson Davis HighwayArlington\, VA  22202Telephone: 1.800.266.9432 or 1.703.920.3230Group Name:  Disabled American Veterans$213 Single/Double \n			\n				VISIT EVENT PAGE
URL:https://davma.org/event/mid-winter-conference/
LOCATION:Crystal Gateway Marriott\, 1700 Jefferson Davis Highway\, Arlington\, VA\, 22202
CATEGORIES:Convention
END:VEVENT
BEGIN:VEVENT
DTSTART;TZID=UTC:20230805T080000
DTEND;TZID=UTC:20230808T170000
DTSTAMP:20260420T112830
CREATED:20230510T020603Z
LAST-MODIFIED:20230615T214107Z
UID:611-1691222400-1691514000@davma.org
SUMMARY:2023 DAV & Auxiliary National Convention
DESCRIPTION:Saturday\, August 5 – Tuesday\, August 8\, 2023 \nHarrah’s Atlantic City\n777 Harrah’s Blvd.\nAtlantic City\, NJ 08401\n$149 Single/ Double\nPhone:  888-516-2215 (8am-2am EST\, 7 days a week)\nGroup name:  DAV 2023 National Convention\nGroup code:  SH07DV3 (All callers will be asked for this code but can also book by saying “DAV 2023 National Conv” \nThe DAV room block of nearly 1400 rooms at Harrah’s is currently sold out. We are asking those who have reservations\, for which they do not have an immediate need\, to cancel those rooms as soon as possible to make space for those who plan to attend. As cancellations are made\, rooms will become available at the reservation link (up to June 30). \nHarrah’s is offering DAV Convention attendees additional rooms at a $199 rate for individuals staying a minimum of 6 nights. Reservations can be made here. \nDAV has secured an overflow room block at a Sheraton located less than 2 miles from Harrah’s at a $189 nightly rate. All reservations will be secured by a first night\, non-refundable room deposit. While transportation will not be offered between the overflow hotel and Harrah’s\, we do have a reduced parking rate at Harrah’s at $8 per day. \nSheraton Atlantic City Convention Center Hotel\nTwo Convention Boulevard\nAtlantic City\, New Jersey 08401\nReference #: M-QHQHGSQ\n1-888-236-2427\nReserve your overflow hotel reservation here: https://www.marriott.com/events/start.mi?id=1686231650519&key=GRP
URL:https://davma.org/event/dav-auxiliary-national-convention/
LOCATION:Harrah’s Atlantic City\, 777 Harrah’s Blvd\, Atlantic City\, NJ\, 08401\, United States
CATEGORIES:Convention
END:VEVENT
END:VCALENDAR