BEGIN:VCALENDAR
VERSION:2.0
PRODID:-//DAV Massachusetts - ECPv6.15.20//NONSGML v1.0//EN
CALSCALE:GREGORIAN
METHOD:PUBLISH
X-ORIGINAL-URL:https://davma.org
X-WR-CALDESC:Events for DAV Massachusetts
REFRESH-INTERVAL;VALUE=DURATION:PT1H
X-Robots-Tag:noindex
X-PUBLISHED-TTL:PT1H
BEGIN:VTIMEZONE
TZID:UTC
BEGIN:STANDARD
TZOFFSETFROM:+0000
TZOFFSETTO:+0000
TZNAME:UTC
DTSTART:20220101T000000
END:STANDARD
END:VTIMEZONE
BEGIN:VEVENT
DTSTART;TZID=UTC:20231111T080000
DTEND;TZID=UTC:20231111T170000
DTSTAMP:20260420T131308
CREATED:20230510T023517Z
LAST-MODIFIED:20230510T024046Z
UID:627-1699689600-1699722000@davma.org
SUMMARY:DAV 5K
DESCRIPTION:In 2023\, we look forward to returning to DCR Fort Independence at Castle Island to celebrate in person this November! Come run with the DAV 5K Boston and #FinishInTheFort! \nWe are thrilled to be back at Fort Independence and cannot wait to see you and all of our DAV 5K Boston friends and family again. The DAV 5K Boston race committee is \n			\n			\n				\n				\n				\n				\n			\n				\n				\n				\n				\n				\n				\n				\n				\n				\n				\n				working with our municipal partners at the Commonwealth of Massachusetts\, the DCR\, State Police and the City of Boston to ensure a safe and responsible family-friendly event experience. The DAV 5K Boston team is taking extra care this year to keep you safe\, including shipping race kits in advance to all participants. \nThe DAV 5K Run to Honor Veterans is a run\, walk or roll that thanks those who served and raises awareness of the issues our ill and injured veterans face every day. This event helps further the mission of DAV to ensure our injured heroes are not alone on their road to recovery. \n			\n			\n				\n				\n				\n				\n			\n				\n				\n				\n				\n				\n				\n				VISIT EVENT WEBSITE
URL:https://davma.org/event/dav-5k/
LOCATION:Fort Independence\, Castle Island\, Quincy\, MA\, United States
CATEGORIES:5K Race
END:VEVENT
END:VCALENDAR