BEGIN:VCALENDAR
VERSION:2.0
PRODID:-//DAV Massachusetts - ECPv6.15.20//NONSGML v1.0//EN
CALSCALE:GREGORIAN
METHOD:PUBLISH
X-WR-CALNAME:DAV Massachusetts
X-ORIGINAL-URL:https://davma.org
X-WR-CALDESC:Events for DAV Massachusetts
REFRESH-INTERVAL;VALUE=DURATION:PT1H
X-Robots-Tag:noindex
X-PUBLISHED-TTL:PT1H
BEGIN:VTIMEZONE
TZID:UTC
BEGIN:STANDARD
TZOFFSETFROM:+0000
TZOFFSETTO:+0000
TZNAME:UTC
DTSTART:20240101T000000
END:STANDARD
END:VTIMEZONE
BEGIN:VEVENT
DTSTART;TZID=UTC:20251110T190000
DTEND;TZID=UTC:20251110T200000
DTSTAMP:20260420T055828
CREATED:20250225T141418Z
LAST-MODIFIED:20250827T164939Z
UID:1891-1762801200-1762804800@davma.org
SUMMARY:The Department Board of Directors Meeting (BOD Meeting)
DESCRIPTION:The Department Board of Directors (BOD Meeting) will be held by Zoom on Monday\, November 10\, 2025 at 7pm via Zoom. \nPlease contact Department Adjutant Mike Valila at mvalila@davma.org for more details or information.
URL:https://davma.org/event/the-department-board-of-directors-meeting-bod-meeting-4/
LOCATION:MA
END:VEVENT
END:VCALENDAR