BEGIN:VCALENDAR
VERSION:2.0
PRODID:-//DAV Massachusetts - ECPv6.15.20//NONSGML v1.0//EN
CALSCALE:GREGORIAN
METHOD:PUBLISH
X-WR-CALNAME:DAV Massachusetts
X-ORIGINAL-URL:https://davma.org
X-WR-CALDESC:Events for DAV Massachusetts
REFRESH-INTERVAL;VALUE=DURATION:PT1H
X-Robots-Tag:noindex
X-PUBLISHED-TTL:PT1H
BEGIN:VTIMEZONE
TZID:UTC
BEGIN:STANDARD
TZOFFSETFROM:+0000
TZOFFSETTO:+0000
TZNAME:UTC
DTSTART:20230101T000000
END:STANDARD
END:VTIMEZONE
BEGIN:VEVENT
DTSTART;VALUE=DATE:20241025
DTEND;VALUE=DATE:20241028
DTSTAMP:20260421T072136
CREATED:20240918T234116Z
LAST-MODIFIED:20240918T234116Z
UID:1754-1729814400-1730073599@davma.org
SUMMARY:Women Veteran Retreat
DESCRIPTION:The DAV Department of Massachusetts’ Women Veterans Committee is hosting a FREE Women Veteran Retreat Friday October 25th through Sunday October 27th at the DAV Conservation & Wellness Retreat in Fitzwilliam\, NH. Join other Women Veterans for a relaxing weekend getaway to include\, but not limited to bonfires\, outdoor activities\, crafts\, and more! \nSpace is limited\, so please register today by emailing us at inquiry@davma.org \n 
URL:https://davma.org/event/women-veteran-retreat/
LOCATION:MA
END:VEVENT
BEGIN:VEVENT
DTSTART;TZID=UTC:20241025T110000
DTEND;TZID=UTC:20241025T170000
DTSTAMP:20260421T072136
CREATED:20241002T191613Z
LAST-MODIFIED:20241010T174649Z
UID:1766-1729854000-1729875600@davma.org
SUMMARY:Golf Tournament at Patriot Golf Course (Bedford VA)
DESCRIPTION:Want to support local veterans?? The Bedford VA\, in partnership with DAV Westover 11 is hosting a Golf Tournament on Friday\, October 25th at Patriot Golf Course\, Bedford MA. All funds raised will go towards the costs of sending 4 local veterans to the National Veterans Golden Age Games in 2025! \nThis 9-hole tournament will see registration open at 11am\, followed by a 12pm shotgun start! For more information\, please contact John Hart at 413-265-1096 or joro2645@hotmail.com  -or- Colleen Gavin at 781-687-2356 or colleen.gavin@va.gov \n \n  \nNational Veterans Golden Age Games – National Veterans Sports Programs (va.gov)
URL:https://davma.org/event/golf-tournament-at-patriot-golf-course-bedford-va/
LOCATION:Patriot Golf Course\, 200 Springs Road\, Bedford\, MA\, 01730\, United States
END:VEVENT
END:VCALENDAR