BEGIN:VCALENDAR
VERSION:2.0
PRODID:-//DAV Massachusetts - ECPv6.15.20//NONSGML v1.0//EN
CALSCALE:GREGORIAN
METHOD:PUBLISH
X-ORIGINAL-URL:https://davma.org
X-WR-CALDESC:Events for DAV Massachusetts
REFRESH-INTERVAL;VALUE=DURATION:PT1H
X-Robots-Tag:noindex
X-PUBLISHED-TTL:PT1H
BEGIN:VTIMEZONE
TZID:UTC
BEGIN:STANDARD
TZOFFSETFROM:+0000
TZOFFSETTO:+0000
TZNAME:UTC
DTSTART:20230101T000000
END:STANDARD
END:VTIMEZONE
BEGIN:VEVENT
DTSTART;TZID=UTC:20240930T180000
DTEND;TZID=UTC:20240930T190000
DTSTAMP:20260421T072242
CREATED:20240903T182533Z
LAST-MODIFIED:20240903T182533Z
UID:1739-1727719200-1727722800@davma.org
SUMMARY:Constitution & Bylaws Committee Meeting
DESCRIPTION:The DAV Department of Massachusetts Constitution & Bylaws Committee’s next meeting will be held on Monday\, September 30th at 6pm via Zoom. \nThis is an open meeting. DAV Members are encouraged to attend.\nFor more information\, please contact Chairman Phil Nadeau at HSC@davma.org \n\nTopic: Constitution & Bylaws Committee Meeting\nTime: Sep 30\, 2024 06:00 PM Eastern Time (US and Canada) \nJoin Zoom Meeting\nhttps://us06web.zoom.us/j/83315885418?pwd=ueAHCWnEvJDftFcWhMAWvp9C69CZ7b.1 \nMeeting ID: 833 1588 5418\nPasscode: 094099
URL:https://davma.org/event/constitution-bylaws-committee-meeting-2/
LOCATION:MA
END:VEVENT
END:VCALENDAR