BEGIN:VCALENDAR
VERSION:2.0
PRODID:-//DAV Massachusetts - ECPv6.15.20//NONSGML v1.0//EN
CALSCALE:GREGORIAN
METHOD:PUBLISH
X-WR-CALNAME:DAV Massachusetts
X-ORIGINAL-URL:https://davma.org
X-WR-CALDESC:Events for DAV Massachusetts
REFRESH-INTERVAL;VALUE=DURATION:PT1H
X-Robots-Tag:noindex
X-PUBLISHED-TTL:PT1H
BEGIN:VTIMEZONE
TZID:UTC
BEGIN:STANDARD
TZOFFSETFROM:+0000
TZOFFSETTO:+0000
TZNAME:UTC
DTSTART:20230101T000000
END:STANDARD
END:VTIMEZONE
BEGIN:VEVENT
DTSTART;TZID=UTC:20240925T180000
DTEND;TZID=UTC:20240925T190000
DTSTAMP:20260421T090043
CREATED:20240903T182102Z
LAST-MODIFIED:20240903T182102Z
UID:1737-1727287200-1727290800@davma.org
SUMMARY:Legislative Committee Meeting
DESCRIPTION:The DAV Department of Massachusetts Legislative Committee will meet next on Wednesday\, September 25th at 6pm via Zoom. \nThis is an open meeting. DAV Members are encouraged to attend.\nFor more information\, please contact Chairman Andrea Gayle-Bennett at andglad@hotmail.com \nTopic: Monthly MA DAV Legislative Committee Meeting\nTime: Sep 25\, 2024 06:00 PM Eastern Time (US and Canada) \nJoin Zoom Meeting\nhttps://us06web.zoom.us/j/87123439473?pwd=PQBdfIGA1KXFmqDq7aIg9cTjUDpFAv.1 \nMeeting ID: 871 2343 9473\nPasscode: 319274
URL:https://davma.org/event/legislative-committee-meeting/
LOCATION:MA
END:VEVENT
END:VCALENDAR