BEGIN:VCALENDAR
VERSION:2.0
PRODID:-//DAV Massachusetts - ECPv6.15.20//NONSGML v1.0//EN
CALSCALE:GREGORIAN
METHOD:PUBLISH
X-WR-CALNAME:DAV Massachusetts
X-ORIGINAL-URL:https://davma.org
X-WR-CALDESC:Events for DAV Massachusetts
REFRESH-INTERVAL;VALUE=DURATION:PT1H
X-Robots-Tag:noindex
X-PUBLISHED-TTL:PT1H
BEGIN:VTIMEZONE
TZID:UTC
BEGIN:STANDARD
TZOFFSETFROM:+0000
TZOFFSETTO:+0000
TZNAME:UTC
DTSTART:20230101T000000
END:STANDARD
END:VTIMEZONE
BEGIN:VEVENT
DTSTART;TZID=UTC:20240910T090000
DTEND;TZID=UTC:20240910T150000
DTSTAMP:20260421T090045
CREATED:20240510T125157Z
LAST-MODIFIED:20240510T125157Z
UID:1575-1725958800-1725980400@davma.org
SUMMARY:Info Seminar - Waltham\, MA
DESCRIPTION:Fellow Veteran\,\nWe warmly welcome you to attend our upcoming Veterans\nInformation Seminar\, where a DAV service officer—who is a veteran\,\nlike you—will help explain your earned benefits and guide you to free\,\nprofessional claims assistance. All veterans and family members are\nwelcome to attend\, and you need not be a member to take advantage\nof our no-cost services. If you cannot make it to the seminar and need\nassistance with a VA claim\, please visit benefitsquestions.org to get\ninto contact with your local Service Office.\nDAV is the recognized leader in providing the best counseling and\nclaim filing assistance to veterans and their families. Our service\nofficers are schooled in the full range of benefits for military veterans\,\nretirees and their families\, and they can help strengthen your\nknowledge and understanding of the benefits and services you earned. \nSeminar Date September 10\, 2024\nBenefit Seminar – 09:00 AM – 12:00 PM\nClaims Assistance – 12:00 PM – 03:00 PM\nLocation – 119 School Street\nWaltham\, Massachusetts 02452
URL:https://davma.org/event/info-seminar-waltham-ma/
LOCATION:119 School Street\, 119 School Street\, Waltham\, MA\, 02452\, United States
END:VEVENT
END:VCALENDAR