BEGIN:VCALENDAR
VERSION:2.0
PRODID:-//DAV Massachusetts - ECPv6.15.20//NONSGML v1.0//EN
CALSCALE:GREGORIAN
METHOD:PUBLISH
X-WR-CALNAME:DAV Massachusetts
X-ORIGINAL-URL:https://davma.org
X-WR-CALDESC:Events for DAV Massachusetts
REFRESH-INTERVAL;VALUE=DURATION:PT1H
X-Robots-Tag:noindex
X-PUBLISHED-TTL:PT1H
BEGIN:VTIMEZONE
TZID:UTC
BEGIN:STANDARD
TZOFFSETFROM:+0000
TZOFFSETTO:+0000
TZNAME:UTC
DTSTART:20230101T000000
END:STANDARD
END:VTIMEZONE
BEGIN:VEVENT
DTSTART;TZID=UTC:20240726T060000
DTEND;TZID=UTC:20240726T120000
DTSTAMP:20260421T121139
CREATED:20240611T140551Z
LAST-MODIFIED:20240611T140551Z
UID:1643-1721973600-1721995200@davma.org
SUMMARY:ZipTrip - Holliston\, MA
DESCRIPTION:July 26th – 6:00 am – 12:00 pm\n\n\n\nJoin DAV Department of MA & Fox25 Boston on Friday\, July 26\, 2024 at our ZipTrip to Holliston\, MA
URL:https://davma.org/event/ziptrip-holliston-ma-2/
LOCATION:MA
END:VEVENT
END:VCALENDAR