BEGIN:VCALENDAR
VERSION:2.0
PRODID:-//DAV Massachusetts - ECPv6.15.20//NONSGML v1.0//EN
CALSCALE:GREGORIAN
METHOD:PUBLISH
X-ORIGINAL-URL:https://davma.org
X-WR-CALDESC:Events for DAV Massachusetts
REFRESH-INTERVAL;VALUE=DURATION:PT1H
X-Robots-Tag:noindex
X-PUBLISHED-TTL:PT1H
BEGIN:VTIMEZONE
TZID:UTC
BEGIN:STANDARD
TZOFFSETFROM:+0000
TZOFFSETTO:+0000
TZNAME:UTC
DTSTART:20230101T000000
END:STANDARD
END:VTIMEZONE
BEGIN:VEVENT
DTSTART;TZID=UTC:20240628T060000
DTEND;TZID=UTC:20240628T120000
DTSTAMP:20260421T135119
CREATED:20240510T131703Z
LAST-MODIFIED:20240510T131703Z
UID:1586-1719554400-1719576000@davma.org
SUMMARY:ZipTrip - Rockland\, MA
DESCRIPTION:Join DAV Department of MA & Fox25 Boston on Friday\, June 28\, 2024 at our ZipTrip to Rockland\, MA
URL:https://davma.org/event/ziptrip-rockland-ma/
LOCATION:MA
END:VEVENT
END:VCALENDAR