BEGIN:VCALENDAR
VERSION:2.0
PRODID:-//DAV Massachusetts - ECPv6.15.20//NONSGML v1.0//EN
CALSCALE:GREGORIAN
METHOD:PUBLISH
X-WR-CALNAME:DAV Massachusetts
X-ORIGINAL-URL:https://davma.org
X-WR-CALDESC:Events for DAV Massachusetts
REFRESH-INTERVAL;VALUE=DURATION:PT1H
X-Robots-Tag:noindex
X-PUBLISHED-TTL:PT1H
BEGIN:VTIMEZONE
TZID:UTC
BEGIN:STANDARD
TZOFFSETFROM:+0000
TZOFFSETTO:+0000
TZNAME:UTC
DTSTART:20230101T000000
END:STANDARD
END:VTIMEZONE
BEGIN:VEVENT
DTSTART;TZID=UTC:20240606T090000
DTEND;TZID=UTC:20240606T150000
DTSTAMP:20260421T135022
CREATED:20240503T191636Z
LAST-MODIFIED:20240503T191636Z
UID:1549-1717664400-1717686000@davma.org
SUMMARY:Level I & II Service Officer Training
DESCRIPTION:DAV Department of MA will host the NSO Office to provide Service Officer training on Thursday\, June 6\, 2024 at Mount Wachusett Community College in Gardner\, MA. \nLevel I & II DSO/CSO Training will be held from 9am-2pm. Lunch & refreshments will be served. \nAnyone who previously attended training in June or September 2023 that wishes to uphold their certification must attend this training to be certified for the new year! \nIf you are new to DAV or have not been through this training before and would like the opportunity\, please reach out to your Chapter Commander/Adjutant to sign you up for the course. \nAll those wishing to attend this training must have a Service Officer Nomination for completed prior to attending the training that is signed by their Commander/Adjutant. Anyone who shows up without this form completed will be turned away at the door. \nPlease send completed Service Officer Nomination forms to NSO Assistant Supervisor David Boyd at david.boyd2@va.gov or Department Inspector Deb Olson at dolson@davma.org \n 
URL:https://davma.org/event/level-i-ii-service-officer-training/
LOCATION:Mount Wachusett Community College\, 444 Green Street\, Gardner\, MA\, 01440\, United States
END:VEVENT
END:VCALENDAR