BEGIN:VCALENDAR
VERSION:2.0
PRODID:-//DAV Massachusetts - ECPv6.15.20//NONSGML v1.0//EN
CALSCALE:GREGORIAN
METHOD:PUBLISH
X-WR-CALNAME:DAV Massachusetts
X-ORIGINAL-URL:https://davma.org
X-WR-CALDESC:Events for DAV Massachusetts
REFRESH-INTERVAL;VALUE=DURATION:PT1H
X-Robots-Tag:noindex
X-PUBLISHED-TTL:PT1H
BEGIN:VTIMEZONE
TZID:UTC
BEGIN:STANDARD
TZOFFSETFROM:+0000
TZOFFSETTO:+0000
TZNAME:UTC
DTSTART:20230101T000000
END:STANDARD
END:VTIMEZONE
BEGIN:VEVENT
DTSTART;TZID=UTC:20240526T130000
DTEND;TZID=UTC:20240526T140000
DTSTAMP:20260421T153115
CREATED:20231204T194746Z
LAST-MODIFIED:20231204T194746Z
UID:1263-1716728400-1716732000@davma.org
SUMMARY:Memorial Day Ceremony at Bourne National Cemetery
DESCRIPTION:DAV Department of Massachusetts Honor Guard\, Line Officers\, and members will participate in the Memorial Day Ceremony at Bourne National Cemetery on Sunday May 26\, 2024. \nParade meeting location and time will be announced as the date approaches. If you would like to participate\, please reach out to Department Commander Bob Kinsman at BobKDAV47@comcast.net
URL:https://davma.org/event/memorial-day-ceremony-at-bourne-national-cemetery/
LOCATION:Bourne National Cemetery\, Connery Avenue\, Bourne\, MA\, 02542\, United States
END:VEVENT
END:VCALENDAR