BEGIN:VCALENDAR
VERSION:2.0
PRODID:-//DAV Massachusetts - ECPv6.15.20//NONSGML v1.0//EN
CALSCALE:GREGORIAN
METHOD:PUBLISH
X-ORIGINAL-URL:https://davma.org
X-WR-CALDESC:Events for DAV Massachusetts
REFRESH-INTERVAL;VALUE=DURATION:PT1H
X-Robots-Tag:noindex
X-PUBLISHED-TTL:PT1H
BEGIN:VTIMEZONE
TZID:UTC
BEGIN:STANDARD
TZOFFSETFROM:+0000
TZOFFSETTO:+0000
TZNAME:UTC
DTSTART:20230101T000000
END:STANDARD
END:VTIMEZONE
BEGIN:VEVENT
DTSTART;TZID=UTC:20240517T090000
DTEND;TZID=UTC:20240517T150000
DTSTAMP:20260421T153122
CREATED:20240503T194140Z
LAST-MODIFIED:20240503T194140Z
UID:1556-1715936400-1715958000@davma.org
SUMMARY:Hiking Trail Clearing - Volunteers Needed!
DESCRIPTION:The DAV Department of MA is looking for volunteers to assist in clearing hiking trails at our Farm in Fitzwilliam\, NH. \nThe Farm serves as a retreat for a multitude of purposes\, from veteran respite\, hosting veteran groups for trainings\, equine therapy\, and more. This past fall we marked hiking trails throughout our 80+ acres\, as another means of entertainment when the facility is utilized. \nNow we are in need of volunteers to assist in formally clearing these trails. If you are interested in assisting\, please contact Facilities Maintenance Supervisor Chris Akey at cakey@davma.org or Adjutant Mike Valila at mvalila@davma.org \nAll tools/equipment will be on site. Volunteers will be provided lunch and refreshments
URL:https://davma.org/event/hiking-trail-clearing-volunteers-needed/
LOCATION:DAV Farm\, Fitzwilliam\, NH\, United States
END:VEVENT
END:VCALENDAR