BEGIN:VCALENDAR
VERSION:2.0
PRODID:-//DAV Massachusetts - ECPv6.15.20//NONSGML v1.0//EN
CALSCALE:GREGORIAN
METHOD:PUBLISH
X-WR-CALNAME:DAV Massachusetts
X-ORIGINAL-URL:https://davma.org
X-WR-CALDESC:Events for DAV Massachusetts
REFRESH-INTERVAL;VALUE=DURATION:PT1H
X-Robots-Tag:noindex
X-PUBLISHED-TTL:PT1H
BEGIN:VTIMEZONE
TZID:UTC
BEGIN:STANDARD
TZOFFSETFROM:+0000
TZOFFSETTO:+0000
TZNAME:UTC
DTSTART:20230101T000000
END:STANDARD
END:VTIMEZONE
BEGIN:VEVENT
DTSTART;TZID=UTC:20240305T190000
DTEND;TZID=UTC:20240305T200000
DTSTAMP:20260421T191338
CREATED:20231204T192809Z
LAST-MODIFIED:20231207T151034Z
UID:1250-1709665200-1709668800@davma.org
SUMMARY:Board of Directors
DESCRIPTION:Our Board of Directors will next meet on Tuesday March 5\, 2024 (date was changed due to Mid-Winter rescheduling)
URL:https://davma.org/event/board-of-directors/
LOCATION:MA
END:VEVENT
END:VCALENDAR