BEGIN:VCALENDAR
VERSION:2.0
PRODID:-//DAV Massachusetts - ECPv6.15.20//NONSGML v1.0//EN
CALSCALE:GREGORIAN
METHOD:PUBLISH
X-ORIGINAL-URL:https://davma.org
X-WR-CALDESC:Events for DAV Massachusetts
REFRESH-INTERVAL;VALUE=DURATION:PT1H
X-Robots-Tag:noindex
X-PUBLISHED-TTL:PT1H
BEGIN:VTIMEZONE
TZID:UTC
BEGIN:STANDARD
TZOFFSETFROM:+0000
TZOFFSETTO:+0000
TZNAME:UTC
DTSTART:20230101T000000
END:STANDARD
END:VTIMEZONE
BEGIN:VEVENT
DTSTART;TZID=UTC:20240122T180000
DTEND;TZID=UTC:20240122T190000
DTSTAMP:20260421T235749
CREATED:20240112T202717Z
LAST-MODIFIED:20240112T202926Z
UID:1298-1705946400-1705950000@davma.org
SUMMARY:Advanced Service Officer Training
DESCRIPTION:Our next advanced service officer training will be held on Monday\, January 22nd at 6pm via Zoom (please see link below). \n  \n 
URL:https://davma.org/event/advanced-service-officer-training/
LOCATION:zoom
END:VEVENT
END:VCALENDAR