BEGIN:VCALENDAR
VERSION:2.0
PRODID:-//DAV Massachusetts - ECPv6.15.20//NONSGML v1.0//EN
CALSCALE:GREGORIAN
METHOD:PUBLISH
X-WR-CALNAME:DAV Massachusetts
X-ORIGINAL-URL:https://davma.org
X-WR-CALDESC:Events for DAV Massachusetts
REFRESH-INTERVAL;VALUE=DURATION:PT1H
X-Robots-Tag:noindex
X-PUBLISHED-TTL:PT1H
BEGIN:VTIMEZONE
TZID:UTC
BEGIN:STANDARD
TZOFFSETFROM:+0000
TZOFFSETTO:+0000
TZNAME:UTC
DTSTART:20220101T000000
END:STANDARD
END:VTIMEZONE
BEGIN:VEVENT
DTSTART;TZID=UTC:20230818T060000
DTEND;TZID=UTC:20230818T120000
DTSTAMP:20260422T090430
CREATED:20230615T221808Z
LAST-MODIFIED:20230615T221808Z
UID:912-1692338400-1692360000@davma.org
SUMMARY:Fox25 ZipTrip - Sterling
DESCRIPTION:The DAV Department of MA will once again be featured each Friday throughout the summer on Fox25 News at their ZipTrip locations around the Commonwealth!! \nDAV will have a table at the event\, providing outreach\, claims assistance\, educating the public about our many services and programs\, and more! \nWe would love to have you join us! This is a great opportunity for DAV members and Auxiliary members to use as a recruiting tool. For more information\, please contact Assistant Adjutant Mike Valila at mvalila@davma.org
URL:https://davma.org/event/fox25-ziptrip-sterling/
LOCATION:ZipTrip\, Natick\, MA\, United States
END:VEVENT
BEGIN:VEVENT
DTSTART;TZID=UTC:20230818T140000
DTEND;TZID=UTC:20230818T160000
DTSTAMP:20260422T090430
CREATED:20230815T183814Z
LAST-MODIFIED:20230815T183815Z
UID:1049-1692367200-1692374400@davma.org
SUMMARY:Rep. Seth Moulton's 6th District Constituent Services Fair
DESCRIPTION:DAV Chapter 68 will be on hand along with many other agencies and organizations at Representative Seth Moulton’s 6th District Constituent Services Fair August 18th at North Shore Community College’s Lynn Campus. Please see link to flyer below for further details. \n  \nClick Here for Event Flyer
URL:https://davma.org/event/rep-seth-moultons-6th-district-constituent-services-fair/
LOCATION:North Shore Community College\, Lunn Campus Gymnasium\, 300 Broad Street\, MA\, 01901\, United States
END:VEVENT
END:VCALENDAR