BEGIN:VCALENDAR
VERSION:2.0
PRODID:-//DAV Massachusetts - ECPv6.15.20//NONSGML v1.0//EN
CALSCALE:GREGORIAN
METHOD:PUBLISH
X-ORIGINAL-URL:https://davma.org
X-WR-CALDESC:Events for DAV Massachusetts
REFRESH-INTERVAL;VALUE=DURATION:PT1H
X-Robots-Tag:noindex
X-PUBLISHED-TTL:PT1H
BEGIN:VTIMEZONE
TZID:UTC
BEGIN:STANDARD
TZOFFSETFROM:+0000
TZOFFSETTO:+0000
TZNAME:UTC
DTSTART:20220101T000000
END:STANDARD
END:VTIMEZONE
BEGIN:VEVENT
DTSTART;TZID=UTC:20230817T123000
DTEND;TZID=UTC:20230817T160000
DTSTAMP:20260424T083330
CREATED:20230801T123552Z
LAST-MODIFIED:20230801T123552Z
UID:963-1692275400-1692288000@davma.org
SUMMARY:NSCC
DESCRIPTION:NSCC-Danvers
URL:https://davma.org/event/nscc/
LOCATION:North Shore Community College\, 1 Ferncroft Rd\, Danvers\, MA\, 01923
END:VEVENT
END:VCALENDAR