BEGIN:VCALENDAR
VERSION:2.0
PRODID:-//DAV Massachusetts - ECPv6.15.20//NONSGML v1.0//EN
CALSCALE:GREGORIAN
METHOD:PUBLISH
X-ORIGINAL-URL:https://davma.org
X-WR-CALDESC:Events for DAV Massachusetts
REFRESH-INTERVAL;VALUE=DURATION:PT1H
X-Robots-Tag:noindex
X-PUBLISHED-TTL:PT1H
BEGIN:VTIMEZONE
TZID:UTC
BEGIN:STANDARD
TZOFFSETFROM:+0000
TZOFFSETTO:+0000
TZNAME:UTC
DTSTART:20220101T000000
END:STANDARD
END:VTIMEZONE
BEGIN:VEVENT
DTSTART;TZID=UTC:20230814T080000
DTEND;TZID=UTC:20230814T170000
DTSTAMP:20260422T090638
CREATED:20230510T010717Z
LAST-MODIFIED:20230510T010717Z
UID:600-1692000000-1692032400@davma.org
SUMMARY:DAV MA Applied Underwriters Invitational Golf Tournament
DESCRIPTION:
URL:https://davma.org/event/dav-ma-applied-underwriters-invitational-golf-tournament/
LOCATION:Granite Links Golf Club\, 100 Quarry Hills Drive\, Quincy\, MA\, 02169\, United States
CATEGORIES:Golf Tournament
END:VEVENT
END:VCALENDAR