BEGIN:VCALENDAR
VERSION:2.0
PRODID:-//DAV Massachusetts - ECPv6.15.20//NONSGML v1.0//EN
CALSCALE:GREGORIAN
METHOD:PUBLISH
X-WR-CALNAME:DAV Massachusetts
X-ORIGINAL-URL:https://davma.org
X-WR-CALDESC:Events for DAV Massachusetts
REFRESH-INTERVAL;VALUE=DURATION:PT1H
X-Robots-Tag:noindex
X-PUBLISHED-TTL:PT1H
BEGIN:VTIMEZONE
TZID:UTC
BEGIN:STANDARD
TZOFFSETFROM:+0000
TZOFFSETTO:+0000
TZNAME:UTC
DTSTART:20220101T000000
END:STANDARD
END:VTIMEZONE
BEGIN:VEVENT
DTSTART;TZID=UTC:20230812T120000
DTEND;TZID=UTC:20230812T160000
DTSTAMP:20260422T090428
CREATED:20230809T182912Z
LAST-MODIFIED:20230809T182912Z
UID:990-1691841600-1691856000@davma.org
SUMMARY:Village Green Car Show
DESCRIPTION:Village Green Family Campground will host their annual Car Show on Saturday\, August 12\, 2023 from 12pm-4pm at 228 Sturbridge Road\, Brimfield MA. \nThere will be prizes for cars\, trucks\, and motorcycles of different classes\, and an overall prize too\, as well as great music\, food and drinks! \nThe DAV Department of Massachusetts will be tabling at this event for any veteran in need of claims assistance\, benefits counseling\, or information on our services and programs. \nPlease visit their website for more details: CAR SHOW WEEKEND | Village Green (villagegreencampground.com) \nWe hope to see many of you there!
URL:https://davma.org/event/village-green-car-show/
LOCATION:MA
END:VEVENT
END:VCALENDAR