BEGIN:VCALENDAR
VERSION:2.0
PRODID:-//DAV Massachusetts - ECPv6.15.20//NONSGML v1.0//EN
CALSCALE:GREGORIAN
METHOD:PUBLISH
X-WR-CALNAME:DAV Massachusetts
X-ORIGINAL-URL:https://davma.org
X-WR-CALDESC:Events for DAV Massachusetts
REFRESH-INTERVAL;VALUE=DURATION:PT1H
X-Robots-Tag:noindex
X-PUBLISHED-TTL:PT1H
BEGIN:VTIMEZONE
TZID:UTC
BEGIN:STANDARD
TZOFFSETFROM:+0000
TZOFFSETTO:+0000
TZNAME:UTC
DTSTART:20220101T000000
END:STANDARD
END:VTIMEZONE
BEGIN:VEVENT
DTSTART;TZID=UTC:20230804T060000
DTEND;TZID=UTC:20230804T120000
DTSTAMP:20260424T095228
CREATED:20230615T221618Z
LAST-MODIFIED:20230615T221618Z
UID:908-1691128800-1691150400@davma.org
SUMMARY:Fox25 ZipTrip - Gloucester
DESCRIPTION:The DAV Department of MA will once again be featured each Friday throughout the summer on Fox25 News at their ZipTrip locations around the Commonwealth!! \nDAV will have a table at the event\, providing outreach\, claims assistance\, educating the public about our many services and programs\, and more! \nWe would love to have you join us! This is a great opportunity for DAV members and Auxiliary members to use as a recruiting tool. For more information\, please contact Assistant Adjutant Mike Valila at mvalila@davma.org
URL:https://davma.org/event/fox25-ziptrip-gloucester/
LOCATION:ZipTrip\, Natick\, MA\, United States
END:VEVENT
BEGIN:VEVENT
DTSTART;TZID=UTC:20230804T170000
DTEND;TZID=UTC:20230804T200000
DTSTAMP:20260424T095228
CREATED:20230801T124133Z
LAST-MODIFIED:20230801T124133Z
UID:968-1691168400-1691179200@davma.org
SUMMARY:Summer Vet Fest
DESCRIPTION:Summer Vet Fest ’23_FINAL
URL:https://davma.org/event/summer-vet-fest/
LOCATION:Bedford VA Hospital\, 200 Springs Rd\, Bedford\, MA
END:VEVENT
END:VCALENDAR