BEGIN:VCALENDAR
VERSION:2.0
PRODID:-//DAV Massachusetts - ECPv6.15.20//NONSGML v1.0//EN
CALSCALE:GREGORIAN
METHOD:PUBLISH
X-ORIGINAL-URL:https://davma.org
X-WR-CALDESC:Events for DAV Massachusetts
REFRESH-INTERVAL;VALUE=DURATION:PT1H
X-Robots-Tag:noindex
X-PUBLISHED-TTL:PT1H
BEGIN:VTIMEZONE
TZID:UTC
BEGIN:STANDARD
TZOFFSETFROM:+0000
TZOFFSETTO:+0000
TZNAME:UTC
DTSTART:20220101T000000
END:STANDARD
END:VTIMEZONE
BEGIN:VEVENT
DTSTART;TZID=UTC:20230719T083000
DTEND;TZID=UTC:20230719T120000
DTSTAMP:20260424T094604
CREATED:20230615T215526Z
LAST-MODIFIED:20230615T215526Z
UID:885-1689755400-1689768000@davma.org
SUMMARY:Info Seminar (Hosted by Boston NSO Office)
DESCRIPTION:Please join us for an informational seminar for veterans\, dependents\, and their families! At this event\, DAV National Service Officers will present the benefits and services available to veterans\, and following the presentation you may sit one-on-one with a NSO to ask any questions\, or submit a new claim\, increase\, or appeal! \nThis is a FREE event\, and open to the public. Please share with any veterans you know!
URL:https://davma.org/event/info-seminar-hosted-by-boston-nso-office-3/
LOCATION:390 Boston Road\, 390 Boston Road\, Billerica\, MA\, 01821\, United States
ORGANIZER;CN="DAV National Service Office":MAILTO:dav.vbabos@va.gov
END:VEVENT
END:VCALENDAR