BEGIN:VCALENDAR
VERSION:2.0
PRODID:-//DAV Massachusetts - ECPv6.15.20//NONSGML v1.0//EN
CALSCALE:GREGORIAN
METHOD:PUBLISH
X-WR-CALNAME:DAV Massachusetts
X-ORIGINAL-URL:https://davma.org
X-WR-CALDESC:Events for DAV Massachusetts
REFRESH-INTERVAL;VALUE=DURATION:PT1H
X-Robots-Tag:noindex
X-PUBLISHED-TTL:PT1H
BEGIN:VTIMEZONE
TZID:UTC
BEGIN:STANDARD
TZOFFSETFROM:+0000
TZOFFSETTO:+0000
TZNAME:UTC
DTSTART:20220101T000000
END:STANDARD
END:VTIMEZONE
BEGIN:VEVENT
DTSTART;TZID=UTC:20230714T060000
DTEND;TZID=UTC:20230714T120000
DTSTAMP:20260424T094450
CREATED:20230615T221307Z
LAST-MODIFIED:20230615T221307Z
UID:902-1689314400-1689336000@davma.org
SUMMARY:Fox25 ZipTrip - Mendon
DESCRIPTION:The DAV Department of MA will once again be featured each Friday throughout the summer on Fox25 News at their ZipTrip locations around the Commonwealth!! \nDAV will have a table at the event\, providing outreach\, claims assistance\, educating the public about our many services and programs\, and more! \nWe would love to have you join us! This is a great opportunity for DAV members and Auxiliary members to use as a recruiting tool. For more information\, please contact Assistant Adjutant Mike Valila at mvalila@davma.org
URL:https://davma.org/event/fox25-ziptrip-mendon/
LOCATION:ZipTrip\, Natick\, MA\, United States
END:VEVENT
BEGIN:VEVENT
DTSTART;TZID=UTC:20230714T183000
DTEND;TZID=UTC:20230714T213000
DTSTAMP:20260424T094450
CREATED:20230714T183421Z
LAST-MODIFIED:20230714T183421Z
UID:959-1689359400-1689370200@davma.org
SUMMARY:Worcester Bravehearts Military Appreciation Night
DESCRIPTION:The Worcester Bravehearts are having Military Appreciation Night at their game Friday July 14th. \n  \nWorcester Bravehearts Military Appreciation Night\n*Free Admission for ALL Veterans and Active Military (Family Members $6)\nClick on the link to register: https://rb.gy/fynid\n(Password) THANKSVETS \n  \nFitton Field \n1 College Street \nWorcester\, MA \n6:30PM \nWorcester Bravehearts \nWorcester Bravehearts
URL:https://davma.org/event/worcester-bravehearts-military-appreciation-night/
LOCATION:MA
END:VEVENT
END:VCALENDAR