BEGIN:VCALENDAR
VERSION:2.0
PRODID:-//DAV Massachusetts - ECPv6.15.20//NONSGML v1.0//EN
CALSCALE:GREGORIAN
METHOD:PUBLISH
X-WR-CALNAME:DAV Massachusetts
X-ORIGINAL-URL:https://davma.org
X-WR-CALDESC:Events for DAV Massachusetts
REFRESH-INTERVAL;VALUE=DURATION:PT1H
X-Robots-Tag:noindex
X-PUBLISHED-TTL:PT1H
BEGIN:VTIMEZONE
TZID:UTC
BEGIN:STANDARD
TZOFFSETFROM:+0000
TZOFFSETTO:+0000
TZNAME:UTC
DTSTART:20220101T000000
END:STANDARD
END:VTIMEZONE
BEGIN:VEVENT
DTSTART;TZID=UTC:20230706T100000
DTEND;TZID=UTC:20230706T130000
DTSTAMP:20260424T094453
CREATED:20230615T223103Z
LAST-MODIFIED:20230706T052419Z
UID:916-1688637600-1688648400@davma.org
SUMMARY:Department Officer Training
DESCRIPTION:The DAV Department of MA will host a hybrid style Officer Training for Chapter Commanders and Adjutants on July 6\, 2023 (10am-1pm). \nPlease join us in-person at the Veterans Advancement Program\, 3 Victory Lane\, Gardner\, MA (lunch and refreshments will be served) -or- if you cannot make it in-person\, please join us by Zoom by following this link: https://us02web.zoom.us/j/85959866784?pwd=dGVMWWdrcEpVZGt4NG9kdjhsbVhIUT09 \nTraining will cover many topics to include\, but not limited to: Managing your Chapters’ website & calendar\,  Monthly reporting\, Fundraising requests\, and more!
URL:https://davma.org/event/department-officer-training/
LOCATION:Veteran Advancement Program\, 3 Victory Lane\, Gardner\, MA\, 01440\, United States
END:VEVENT
END:VCALENDAR