BEGIN:VCALENDAR
VERSION:2.0
PRODID:-//DAV Massachusetts - ECPv6.15.20//NONSGML v1.0//EN
CALSCALE:GREGORIAN
METHOD:PUBLISH
X-ORIGINAL-URL:https://davma.org
X-WR-CALDESC:Events for DAV Massachusetts
REFRESH-INTERVAL;VALUE=DURATION:PT1H
X-Robots-Tag:noindex
X-PUBLISHED-TTL:PT1H
BEGIN:VTIMEZONE
TZID:UTC
BEGIN:STANDARD
TZOFFSETFROM:+0000
TZOFFSETTO:+0000
TZNAME:UTC
DTSTART:20220101T000000
END:STANDARD
END:VTIMEZONE
BEGIN:VEVENT
DTSTART;TZID=UTC:20230624T080000
DTEND;TZID=UTC:20230624T170000
DTSTAMP:20260424T110838
CREATED:20230510T011744Z
LAST-MODIFIED:20230623T113441Z
UID:605-1687593600-1687626000@davma.org
SUMMARY:Grand Army of the Republic
DESCRIPTION:Click Here to open the Grand Army of the Republic Flyer
URL:https://davma.org/event/grand-army-of-the-republic/
LOCATION:58 Andrew Street\, Lynn\, MA\, 01901\, United States
END:VEVENT
END:VCALENDAR