BEGIN:VCALENDAR
VERSION:2.0
PRODID:-//DAV Massachusetts - ECPv6.15.20//NONSGML v1.0//EN
CALSCALE:GREGORIAN
METHOD:PUBLISH
X-WR-CALNAME:DAV Massachusetts
X-ORIGINAL-URL:https://davma.org
X-WR-CALDESC:Events for DAV Massachusetts
REFRESH-INTERVAL;VALUE=DURATION:PT1H
X-Robots-Tag:noindex
X-PUBLISHED-TTL:PT1H
BEGIN:VTIMEZONE
TZID:UTC
BEGIN:STANDARD
TZOFFSETFROM:+0000
TZOFFSETTO:+0000
TZNAME:UTC
DTSTART:20220101T000000
END:STANDARD
END:VTIMEZONE
BEGIN:VEVENT
DTSTART;TZID=UTC:20230619T090000
DTEND;TZID=UTC:20230619T170000
DTSTAMP:20260424T111819
CREATED:20230510T003911Z
LAST-MODIFIED:20230510T010849Z
UID:586-1687165200-1687194000@davma.org
SUMMARY:23rd Annual DAV Golf Classic
DESCRIPTION:REGISTER TODAY
URL:https://davma.org/event/golf-classic/
LOCATION:Blissful Meadows Golf Course\, Uxbridge\, MA\, 01569\, United States
CATEGORIES:Golf Tournament
END:VEVENT
END:VCALENDAR